BEGIN:VCALENDAR
VERSION:2.0
PRODID:-//Arquireal - ECPv6.15.13.1//NONSGML v1.0//EN
CALSCALE:GREGORIAN
METHOD:PUBLISH
X-WR-CALNAME:Arquireal
X-ORIGINAL-URL:https://arquireal.im3dia.net
X-WR-CALDESC:Eventos para Arquireal
REFRESH-INTERVAL;VALUE=DURATION:PT1H
X-Robots-Tag:noindex
X-PUBLISHED-TTL:PT1H
BEGIN:VTIMEZONE
TZID:Europe/Helsinki
BEGIN:DAYLIGHT
TZOFFSETFROM:+0200
TZOFFSETTO:+0300
TZNAME:EEST
DTSTART:20240331T010000
END:DAYLIGHT
BEGIN:STANDARD
TZOFFSETFROM:+0300
TZOFFSETTO:+0200
TZNAME:EET
DTSTART:20241027T010000
END:STANDARD
BEGIN:DAYLIGHT
TZOFFSETFROM:+0200
TZOFFSETTO:+0300
TZNAME:EEST
DTSTART:20250330T010000
END:DAYLIGHT
BEGIN:STANDARD
TZOFFSETFROM:+0300
TZOFFSETTO:+0200
TZNAME:EET
DTSTART:20251026T010000
END:STANDARD
BEGIN:DAYLIGHT
TZOFFSETFROM:+0200
TZOFFSETTO:+0300
TZNAME:EEST
DTSTART:20260329T010000
END:DAYLIGHT
BEGIN:STANDARD
TZOFFSETFROM:+0300
TZOFFSETTO:+0200
TZNAME:EET
DTSTART:20261025T010000
END:STANDARD
END:VTIMEZONE
BEGIN:VEVENT
DTSTART;TZID=Europe/Helsinki:20250327T183000
DTEND;TZID=Europe/Helsinki:20250327T193000
DTSTAMP:20260426T054559
CREATED:20251112T072427Z
LAST-MODIFIED:20251112T072427Z
UID:12869-1743100200-1743103800@arquireal.im3dia.net
SUMMARY:CONFERENCIA IGNACIO VICENS
DESCRIPTION:Bajo el título ARQUITEXTURAS\, el profesor de Proyectos Arquitectónicos de la Escuela Técnica Superior de Arquitectura de Madrid ETSAM\, Ignacio Vicens y Hualde\, impartió una conferencia en la que repasó su trayectoria profesional desde el punto de vista de los materiales de fachada: ladrillo\, hormigón blanco liso\, abujardado\, con encofrado de tabla\, acero cor tén\, vidrio\, aluminio\, chapa deployeé y piedra. El salón de actos de la demarcación completamente lleno.
URL:https://arquireal.im3dia.net/actividades/conferencia-ignacio-vicens/
LOCATION:Salón de actos. Sede de la Demarcación\, Salón de actos. Sede de la Demarcación. Calle Carlos López Bustos\, 3. Ciudad Real.\, Ciudad Real\, Spain
CATEGORIES:Otras Actividades
ATTACH;FMTTYPE=image/jpeg:https://arquireal.im3dia.net/wp-content/uploads/2025/11/Arquitexturas.jpg
END:VEVENT
END:VCALENDAR