BEGIN:VCALENDAR
VERSION:2.0
PRODID:-//Arquireal - ECPv6.15.13.1//NONSGML v1.0//EN
CALSCALE:GREGORIAN
METHOD:PUBLISH
X-WR-CALNAME:Arquireal
X-ORIGINAL-URL:https://arquireal.im3dia.net
X-WR-CALDESC:Eventos para Arquireal
REFRESH-INTERVAL;VALUE=DURATION:PT1H
X-Robots-Tag:noindex
X-PUBLISHED-TTL:PT1H
BEGIN:VTIMEZONE
TZID:Europe/Helsinki
BEGIN:DAYLIGHT
TZOFFSETFROM:+0200
TZOFFSETTO:+0300
TZNAME:EEST
DTSTART:20250330T010000
END:DAYLIGHT
BEGIN:STANDARD
TZOFFSETFROM:+0300
TZOFFSETTO:+0200
TZNAME:EET
DTSTART:20251026T010000
END:STANDARD
BEGIN:DAYLIGHT
TZOFFSETFROM:+0200
TZOFFSETTO:+0300
TZNAME:EEST
DTSTART:20260329T010000
END:DAYLIGHT
BEGIN:STANDARD
TZOFFSETFROM:+0300
TZOFFSETTO:+0200
TZNAME:EET
DTSTART:20261025T010000
END:STANDARD
BEGIN:DAYLIGHT
TZOFFSETFROM:+0200
TZOFFSETTO:+0300
TZNAME:EEST
DTSTART:20270328T010000
END:DAYLIGHT
BEGIN:STANDARD
TZOFFSETFROM:+0300
TZOFFSETTO:+0200
TZNAME:EET
DTSTART:20271031T010000
END:STANDARD
BEGIN:DAYLIGHT
TZOFFSETFROM:+0200
TZOFFSETTO:+0300
TZNAME:EEST
DTSTART:20280326T010000
END:DAYLIGHT
BEGIN:STANDARD
TZOFFSETFROM:+0300
TZOFFSETTO:+0200
TZNAME:EET
DTSTART:20281029T010000
END:STANDARD
END:VTIMEZONE
BEGIN:VTIMEZONE
TZID:UTC
BEGIN:STANDARD
TZOFFSETFROM:+0000
TZOFFSETTO:+0000
TZNAME:UTC
DTSTART:20250101T000000
END:STANDARD
END:VTIMEZONE
BEGIN:VEVENT
DTSTART;VALUE=DATE:20260402
DTEND;VALUE=DATE:20260403
DTSTAMP:20260423T040955
CREATED:20250212T091503Z
LAST-MODIFIED:20250212T091503Z
UID:10938-1775088000-1775174399@arquireal.im3dia.net
SUMMARY:Jueves Santo
DESCRIPTION:
URL:https://arquireal.im3dia.net/actividades/jueves-santo-26/
LOCATION:Ciudad Real
CATEGORIES:Festivos en España
END:VEVENT
BEGIN:VEVENT
DTSTART;VALUE=DATE:20260403
DTEND;VALUE=DATE:20260404
DTSTAMP:20260423T040955
CREATED:20250212T085558Z
LAST-MODIFIED:20250212T085558Z
UID:10664-1775174400-1775260799@arquireal.im3dia.net
SUMMARY:Viernes Santo
DESCRIPTION:Día festivo
URL:https://arquireal.im3dia.net/actividades/viernes-santo-19/
LOCATION:Ciudad Real
CATEGORIES:Festivos en España
END:VEVENT
BEGIN:VEVENT
DTSTART;VALUE=DATE:20260404
DTEND;VALUE=DATE:20260405
DTSTAMP:20260423T040955
CREATED:20250212T082328Z
LAST-MODIFIED:20250212T091229Z
UID:10362-1775260800-1775347199@arquireal.im3dia.net
SUMMARY:Sábado Santo
DESCRIPTION:
URL:https://arquireal.im3dia.net/actividades/sabado-santo-14/
LOCATION:Ciudad Real
CATEGORIES:Festivos en España
END:VEVENT
BEGIN:VEVENT
DTSTART;VALUE=DATE:20260405
DTEND;VALUE=DATE:20260406
DTSTAMP:20260423T040955
CREATED:20250212T090244Z
LAST-MODIFIED:20250212T090244Z
UID:10719-1775347200-1775433599@arquireal.im3dia.net
SUMMARY:Domingo de Pascua
DESCRIPTION:
URL:https://arquireal.im3dia.net/actividades/domingo-de-pascua-19/
LOCATION:Ciudad Real
CATEGORIES:Festivos en España
END:VEVENT
BEGIN:VEVENT
DTSTART;VALUE=DATE:20260406
DTEND;VALUE=DATE:20260407
DTSTAMP:20260423T040955
CREATED:20250212T091430Z
LAST-MODIFIED:20250212T091430Z
UID:10913-1775433600-1775519999@arquireal.im3dia.net
SUMMARY:Lunes de Pascua
DESCRIPTION:
URL:https://arquireal.im3dia.net/actividades/lunes-de-pascua-23/
LOCATION:Ciudad Real
CATEGORIES:Festivos en España
END:VEVENT
BEGIN:VEVENT
DTSTART;VALUE=DATE:20260407
DTEND;VALUE=DATE:20260408
DTSTAMP:20260423T040955
CREATED:20241015T140352Z
LAST-MODIFIED:20250218T074934Z
UID:5563-1775520000-1775606399@arquireal.im3dia.net
SUMMARY:V. Expedientes
DESCRIPTION:
URL:https://arquireal.im3dia.net/actividades/v-expedientes/
LOCATION:Ciudad Real
CATEGORIES:V. Expedientes
ATTACH;FMTTYPE=image/webp:https://arquireal.im3dia.net/wp-content/uploads/2023/10/documentos-lupa-documento-confirmado-o-aprobado-computadora-portatil-scaled.webp
END:VEVENT
BEGIN:VEVENT
DTSTART;VALUE=DATE:20260421
DTEND;VALUE=DATE:20260422
DTSTAMP:20260423T040955
CREATED:20250107T132934Z
LAST-MODIFIED:20250218T072507Z
UID:7430-1776729600-1776815999@arquireal.im3dia.net
SUMMARY:V. Documentación
DESCRIPTION:
URL:https://arquireal.im3dia.net/actividades/v-documentacion-2/
LOCATION:Ciudad Real
CATEGORIES:V. Documentación
ATTACH;FMTTYPE=image/webp:https://arquireal.im3dia.net/wp-content/uploads/2023/10/gerentes-solicitantes-empleo-dan-mano-despues-entrevista-trabajo-entrevistas-trabajo-encontrar-personas-que-trabajar-empresa-talento-que-trabajar-concepto-contratacion-entrevistas-trabajo-scaled.webp
END:VEVENT
BEGIN:VEVENT
DTSTART;VALUE=DATE:20260423
DTEND;VALUE=DATE:20260424
DTSTAMP:20260423T040955
CREATED:20250212T090245Z
LAST-MODIFIED:20250212T090245Z
UID:10720-1776902400-1776988799@arquireal.im3dia.net
SUMMARY:Día de San Jorge
DESCRIPTION:
URL:https://arquireal.im3dia.net/actividades/dia-de-san-jorge-16/
LOCATION:Ciudad Real
CATEGORIES:Festivos en España
END:VEVENT
BEGIN:VEVENT
DTSTART;VALUE=DATE:20260501
DTEND;VALUE=DATE:20260502
DTSTAMP:20260423T040955
CREATED:20250212T085258Z
LAST-MODIFIED:20250212T085258Z
UID:10640-1777593600-1777679999@arquireal.im3dia.net
SUMMARY:Día del trabajador
DESCRIPTION:Día festivo
URL:https://arquireal.im3dia.net/actividades/dia-del-trabajador-21/
LOCATION:Ciudad Real
CATEGORIES:Festivos en España
END:VEVENT
BEGIN:VEVENT
DTSTART;VALUE=DATE:20260503
DTEND;VALUE=DATE:20260504
DTSTAMP:20260423T040955
CREATED:20250212T085910Z
LAST-MODIFIED:20250212T085910Z
UID:10689-1777766400-1777852799@arquireal.im3dia.net
SUMMARY:El Dia de la Madre
DESCRIPTION:
URL:https://arquireal.im3dia.net/actividades/el-dia-de-la-madre-24/
LOCATION:Ciudad Real
CATEGORIES:Festivos en España
END:VEVENT
BEGIN:VEVENT
DTSTART;VALUE=DATE:20260524
DTEND;VALUE=DATE:20260525
DTSTAMP:20260423T040955
CREATED:20250212T091313Z
LAST-MODIFIED:20250212T091313Z
UID:10853-1779580800-1779667199@arquireal.im3dia.net
SUMMARY:Domingo de Pentecostés
DESCRIPTION:
URL:https://arquireal.im3dia.net/actividades/domingo-de-pentecostes-23/
LOCATION:Ciudad Real
CATEGORIES:Festivos en España
END:VEVENT
BEGIN:VEVENT
DTSTART;VALUE=DATE:20260525
DTEND;VALUE=DATE:20260526
DTSTAMP:20260423T040955
CREATED:20250212T091022Z
LAST-MODIFIED:20250212T091022Z
UID:10782-1779667200-1779753599@arquireal.im3dia.net
SUMMARY:Lunes de Pentecostés
DESCRIPTION:
URL:https://arquireal.im3dia.net/actividades/lunes-de-pentecostes-23/
LOCATION:Ciudad Real
CATEGORIES:Festivos en España
END:VEVENT
BEGIN:VEVENT
DTSTART;VALUE=DATE:20260604
DTEND;VALUE=DATE:20260605
DTSTAMP:20260423T040955
CREATED:20250212T091430Z
LAST-MODIFIED:20250212T091430Z
UID:10914-1780531200-1780617599@arquireal.im3dia.net
SUMMARY:Corpus Christi
DESCRIPTION:
URL:https://arquireal.im3dia.net/actividades/corpus-christi-20/
LOCATION:Ciudad Real
CATEGORIES:Festivos en España
END:VEVENT
BEGIN:VEVENT
DTSTART;VALUE=DATE:20260624
DTEND;VALUE=DATE:20260625
DTSTAMP:20260423T040955
CREATED:20250212T091430Z
LAST-MODIFIED:20250212T091430Z
UID:10915-1782259200-1782345599@arquireal.im3dia.net
SUMMARY:San Juan
DESCRIPTION:
URL:https://arquireal.im3dia.net/actividades/san-juan-16/
LOCATION:Ciudad Real
CATEGORIES:Festivos en España
END:VEVENT
BEGIN:VEVENT
DTSTART;VALUE=DATE:20260725
DTEND;VALUE=DATE:20260726
DTSTAMP:20260423T040955
CREATED:20250212T091430Z
LAST-MODIFIED:20250212T091430Z
UID:10916-1784937600-1785023999@arquireal.im3dia.net
SUMMARY:Santiago Apóstol
DESCRIPTION:
URL:https://arquireal.im3dia.net/actividades/santiago-apostol-17/
LOCATION:Ciudad Real
CATEGORIES:Festivos en España
END:VEVENT
BEGIN:VEVENT
DTSTART;VALUE=DATE:20260815
DTEND;VALUE=DATE:20260816
DTSTAMP:20260423T040955
CREATED:20250212T085158Z
LAST-MODIFIED:20250212T085158Z
UID:10620-1786752000-1786838399@arquireal.im3dia.net
SUMMARY:La Asunción de la Virgen
DESCRIPTION:Día festivo
URL:https://arquireal.im3dia.net/actividades/la-asuncion-de-la-virgen-12/
LOCATION:Ciudad Real
CATEGORIES:Festivos en España
END:VEVENT
BEGIN:VEVENT
DTSTART;VALUE=DATE:20261012
DTEND;VALUE=DATE:20261013
DTSTAMP:20260423T040955
CREATED:20250212T090300Z
LAST-MODIFIED:20250212T090300Z
UID:10721-1791763200-1791849599@arquireal.im3dia.net
SUMMARY:Día de la Hispanidad
DESCRIPTION:Día festivo
URL:https://arquireal.im3dia.net/actividades/dia-de-la-hispanidad-25/
LOCATION:Ciudad Real
CATEGORIES:Festivos en España
END:VEVENT
BEGIN:VEVENT
DTSTART;VALUE=DATE:20261025
DTEND;VALUE=DATE:20261026
DTSTAMP:20260423T040955
CREATED:20250212T091142Z
LAST-MODIFIED:20250212T091142Z
UID:10802-1792886400-1792972799@arquireal.im3dia.net
SUMMARY:Cambio de horario de invierno
DESCRIPTION:
URL:https://arquireal.im3dia.net/actividades/cambio-de-horario-de-invierno-19/
LOCATION:Ciudad Real
CATEGORIES:Festivos en España
END:VEVENT
BEGIN:VEVENT
DTSTART;VALUE=DATE:20261101
DTEND;VALUE=DATE:20261102
DTSTAMP:20260423T040955
CREATED:20250212T090757Z
LAST-MODIFIED:20250212T090757Z
UID:10741-1793491200-1793577599@arquireal.im3dia.net
SUMMARY:Día de Todos los Santos
DESCRIPTION:Día festivo
URL:https://arquireal.im3dia.net/actividades/dia-de-todos-los-santos-19/
LOCATION:Ciudad Real
CATEGORIES:Festivos en España
END:VEVENT
BEGIN:VEVENT
DTSTART;VALUE=DATE:20261102
DTEND;VALUE=DATE:20261103
DTSTAMP:20260423T040955
CREATED:20250212T085213Z
LAST-MODIFIED:20250212T085213Z
UID:10621-1793577600-1793663999@arquireal.im3dia.net
SUMMARY:descanso laboral correspondiente a Día de Todos los Santos
DESCRIPTION:Día festivo
URL:https://arquireal.im3dia.net/actividades/descanso-laboral-correspondiente-a-dia-de-todos-los-santos-3/
LOCATION:Ciudad Real
CATEGORIES:Festivos en España
END:VEVENT
BEGIN:VEVENT
DTSTART;VALUE=DATE:20261206
DTEND;VALUE=DATE:20261207
DTSTAMP:20260423T040955
CREATED:20250212T085313Z
LAST-MODIFIED:20250212T085313Z
UID:10641-1796515200-1796601599@arquireal.im3dia.net
SUMMARY:Día de la Constitución Española
DESCRIPTION:Día festivo
URL:https://arquireal.im3dia.net/actividades/dia-de-la-constitucion-espanola-20/
LOCATION:Ciudad Real
CATEGORIES:Festivos en España
END:VEVENT
BEGIN:VEVENT
DTSTART;VALUE=DATE:20261207
DTEND;VALUE=DATE:20261208
DTSTAMP:20260423T040955
CREATED:20250212T090812Z
LAST-MODIFIED:20250212T090812Z
UID:10742-1796601600-1796687999@arquireal.im3dia.net
SUMMARY:descanso laboral correspondiente a Día de la Constitución Española
DESCRIPTION:Día festivo
URL:https://arquireal.im3dia.net/actividades/descanso-laboral-correspondiente-a-dia-de-la-constitucion-espanola-3/
LOCATION:Ciudad Real
CATEGORIES:Festivos en España
END:VEVENT
BEGIN:VEVENT
DTSTART;VALUE=DATE:20261208
DTEND;VALUE=DATE:20261209
DTSTAMP:20260423T040955
CREATED:20250212T085617Z
LAST-MODIFIED:20250212T085617Z
UID:10665-1796688000-1796774399@arquireal.im3dia.net
SUMMARY:La Inmaculada Concepción
DESCRIPTION:Día festivo
URL:https://arquireal.im3dia.net/actividades/la-inmaculada-concepcion-22/
LOCATION:Ciudad Real
CATEGORIES:Festivos en España
END:VEVENT
BEGIN:VEVENT
DTSTART;VALUE=DATE:20261224
DTEND;VALUE=DATE:20261225
DTSTAMP:20260423T040955
CREATED:20250212T090300Z
LAST-MODIFIED:20250212T090300Z
UID:10722-1798070400-1798156799@arquireal.im3dia.net
SUMMARY:Nochebuena
DESCRIPTION:
URL:https://arquireal.im3dia.net/actividades/nochebuena-15/
LOCATION:Ciudad Real
CATEGORIES:Festivos en España
END:VEVENT
BEGIN:VEVENT
DTSTART;VALUE=DATE:20261225
DTEND;VALUE=DATE:20261226
DTSTAMP:20260423T040955
CREATED:20250212T090300Z
LAST-MODIFIED:20250212T090300Z
UID:10723-1798156800-1798243199@arquireal.im3dia.net
SUMMARY:Navidad
DESCRIPTION:Día festivo
URL:https://arquireal.im3dia.net/actividades/navidad-17/
LOCATION:Ciudad Real
CATEGORIES:Festivos en España
END:VEVENT
BEGIN:VEVENT
DTSTART;VALUE=DATE:20261227
DTEND;VALUE=DATE:20261228
DTSTAMP:20260423T040955
CREATED:20250212T085617Z
LAST-MODIFIED:20250212T085617Z
UID:10666-1798329600-1798415999@arquireal.im3dia.net
SUMMARY:Día de la Sagrada Familia
DESCRIPTION:
URL:https://arquireal.im3dia.net/actividades/dia-de-la-sagrada-familia-12/
LOCATION:Ciudad Real
CATEGORIES:Festivos en España
END:VEVENT
BEGIN:VEVENT
DTSTART;VALUE=DATE:20261231
DTEND;VALUE=DATE:20270101
DTSTAMP:20260423T040955
CREATED:20250212T090929Z
LAST-MODIFIED:20250212T090929Z
UID:10763-1798675200-1798761599@arquireal.im3dia.net
SUMMARY:Nochevieja
DESCRIPTION:
URL:https://arquireal.im3dia.net/actividades/nochevieja-20/
LOCATION:Ciudad Real
CATEGORIES:Festivos en España
END:VEVENT
BEGIN:VEVENT
DTSTART;VALUE=DATE:20270101
DTEND;VALUE=DATE:20270102
DTSTAMP:20260423T040955
CREATED:20250212T081407Z
LAST-MODIFIED:20250212T090935Z
UID:10325-1798761600-1798847999@arquireal.im3dia.net
SUMMARY:Año Nuevo
DESCRIPTION:Día festivo
URL:https://arquireal.im3dia.net/actividades/ano-nuevo-18/
LOCATION:Ciudad Real
CATEGORIES:Festivos en España
END:VEVENT
BEGIN:VEVENT
DTSTART;VALUE=DATE:20270102
DTEND;VALUE=DATE:20270103
DTSTAMP:20260423T040955
CREATED:20250212T091527Z
LAST-MODIFIED:20250212T091527Z
UID:10950-1798848000-1798934399@arquireal.im3dia.net
SUMMARY:Reconquista
DESCRIPTION:
URL:https://arquireal.im3dia.net/actividades/reconquista-30/
LOCATION:Ciudad Real
CATEGORIES:Festivos en España
END:VEVENT
BEGIN:VEVENT
DTSTART;VALUE=DATE:20270106
DTEND;VALUE=DATE:20270107
DTSTAMP:20260423T040955
CREATED:20250212T091229Z
LAST-MODIFIED:20250212T091229Z
UID:10830-1799193600-1799279999@arquireal.im3dia.net
SUMMARY:Epifanía del Señor
DESCRIPTION:Día festivo
URL:https://arquireal.im3dia.net/actividades/epifania-del-senor-32/
LOCATION:Ciudad Real
CATEGORIES:Festivos en España
END:VEVENT
END:VCALENDAR