BEGIN:VCALENDAR
VERSION:2.0
PRODID:-//Arquireal - ECPv6.15.13.1//NONSGML v1.0//EN
CALSCALE:GREGORIAN
METHOD:PUBLISH
X-ORIGINAL-URL:https://arquireal.im3dia.net
X-WR-CALDESC:Eventos para Arquireal
REFRESH-INTERVAL;VALUE=DURATION:PT1H
X-Robots-Tag:noindex
X-PUBLISHED-TTL:PT1H
BEGIN:VTIMEZONE
TZID:Europe/Helsinki
BEGIN:DAYLIGHT
TZOFFSETFROM:+0200
TZOFFSETTO:+0300
TZNAME:EEST
DTSTART:20240331T010000
END:DAYLIGHT
BEGIN:STANDARD
TZOFFSETFROM:+0300
TZOFFSETTO:+0200
TZNAME:EET
DTSTART:20241027T010000
END:STANDARD
BEGIN:DAYLIGHT
TZOFFSETFROM:+0200
TZOFFSETTO:+0300
TZNAME:EEST
DTSTART:20250330T010000
END:DAYLIGHT
BEGIN:STANDARD
TZOFFSETFROM:+0300
TZOFFSETTO:+0200
TZNAME:EET
DTSTART:20251026T010000
END:STANDARD
BEGIN:DAYLIGHT
TZOFFSETFROM:+0200
TZOFFSETTO:+0300
TZNAME:EEST
DTSTART:20260329T010000
END:DAYLIGHT
BEGIN:STANDARD
TZOFFSETFROM:+0300
TZOFFSETTO:+0200
TZNAME:EET
DTSTART:20261025T010000
END:STANDARD
BEGIN:DAYLIGHT
TZOFFSETFROM:+0200
TZOFFSETTO:+0300
TZNAME:EEST
DTSTART:20270328T010000
END:DAYLIGHT
BEGIN:STANDARD
TZOFFSETFROM:+0300
TZOFFSETTO:+0200
TZNAME:EET
DTSTART:20271031T010000
END:STANDARD
END:VTIMEZONE
BEGIN:VEVENT
DTSTART;VALUE=DATE:20250419
DTEND;VALUE=DATE:20250420
DTSTAMP:20260426T055040
CREATED:20250212T085909Z
LAST-MODIFIED:20250212T085909Z
UID:10686-1745020800-1745107199@arquireal.im3dia.net
SUMMARY:Sábado Santo
DESCRIPTION:
URL:https://arquireal.im3dia.net/actividades/sabado-santo-19/
LOCATION:Ciudad Real
CATEGORIES:Festivos en España
END:VEVENT
BEGIN:VEVENT
DTSTART;VALUE=DATE:20250420
DTEND;VALUE=DATE:20250421
DTSTAMP:20260426T055040
CREATED:20250212T085158Z
LAST-MODIFIED:20250212T085158Z
UID:10618-1745107200-1745193599@arquireal.im3dia.net
SUMMARY:Domingo de Pascua
DESCRIPTION:
URL:https://arquireal.im3dia.net/actividades/domingo-de-pascua-17/
LOCATION:Ciudad Real
CATEGORIES:Festivos en España
END:VEVENT
BEGIN:VEVENT
DTSTART;VALUE=DATE:20250421
DTEND;VALUE=DATE:20250422
DTSTAMP:20260426T055040
CREATED:20250212T091425Z
LAST-MODIFIED:20250212T091425Z
UID:10909-1745193600-1745279999@arquireal.im3dia.net
SUMMARY:Lunes de Pascua
DESCRIPTION:
URL:https://arquireal.im3dia.net/actividades/lunes-de-pascua-22/
LOCATION:Ciudad Real
CATEGORIES:Festivos en España
END:VEVENT
BEGIN:VEVENT
DTSTART;VALUE=DATE:20250423
DTEND;VALUE=DATE:20250424
DTSTAMP:20260426T055040
CREATED:20250212T091217Z
LAST-MODIFIED:20250212T091217Z
UID:10825-1745366400-1745452799@arquireal.im3dia.net
SUMMARY:Día de San Jorge
DESCRIPTION:
URL:https://arquireal.im3dia.net/actividades/dia-de-san-jorge-18/
LOCATION:Ciudad Real
CATEGORIES:Festivos en España
END:VEVENT
BEGIN:VEVENT
DTSTART;TZID=Europe/Helsinki:20250428T103000
DTEND;TZID=Europe/Helsinki:20250428T113000
DTSTAMP:20260426T055040
CREATED:20251112T072715Z
LAST-MODIFIED:20251112T072715Z
UID:12872-1745836200-1745839800@arquireal.im3dia.net
SUMMARY:ENTREVISTA CADENA SER CIUDAD REAL
DESCRIPTION:Entrevista a nuestro Presidente\, José Antonio González Baos y la vocal representante de los jóvenes arquitectos\, para hablar sobre la exposición organizada en el Espacio Fisac\, de la demarcación\, para conocer proyectos fin de grado de jóvenes arquitectos de la provincia.
URL:https://arquireal.im3dia.net/actividades/entrevista-cadena-ser-ciudad-real/
LOCATION:SER. Ciudad Real\, SER. Ciudad Real Avenida del Rey Santo\, 3ºD\, 4ª Planta. Ciudad Real.\, Ciudad Real\, Spain
CATEGORIES:Otras Actividades
ATTACH;FMTTYPE=image/jpeg:https://arquireal.im3dia.net/wp-content/uploads/2025/11/EntrevistaCadenaSer.jpg
END:VEVENT
BEGIN:VEVENT
DTSTART;TZID=Europe/Helsinki:20250430T190000
DTEND;TZID=Europe/Helsinki:20250430T200000
DTSTAMP:20260426T055040
CREATED:20251112T072930Z
LAST-MODIFIED:20251112T072930Z
UID:12876-1746039600-1746043200@arquireal.im3dia.net
SUMMARY:INAUGURACIÓN DE LA EXPOSICIÓN DE TRABAJOS ACADÉMICOS DEL GRUPO DE JÓVENES ARQUITECTOS DE LA PROVINCIA DE CIUDAD REAL
DESCRIPTION:Exposición de trabajos fin de grado de jóvenes arquitectos de la provincia. Abierta hasta principios de junio.
URL:https://arquireal.im3dia.net/actividades/inauguracion-de-la-exposicion-de-trabajos-academicos-del-grupo-de-jovenes-arquitectos-de-la-provincia-de-ciudad-real/
LOCATION:Espacio Fisac. Sede de la Demarcación\, Espacio Fisac. Sede de la Demarcación. Calle Carlos López Bustos\, 3. Ciudad Real\, Ciudad Real\, Spain
CATEGORIES:Otras Actividades
ATTACH;FMTTYPE=image/png:https://arquireal.im3dia.net/wp-content/uploads/2025/11/Trabajos-academicos.png
END:VEVENT
BEGIN:VEVENT
DTSTART;VALUE=DATE:20250501
DTEND;VALUE=DATE:20250502
DTSTAMP:20260426T055040
CREATED:20250212T091301Z
LAST-MODIFIED:20250212T091301Z
UID:10846-1746057600-1746143999@arquireal.im3dia.net
SUMMARY:Día del trabajador
DESCRIPTION:Día festivo
URL:https://arquireal.im3dia.net/actividades/dia-del-trabajador-26/
LOCATION:Ciudad Real
CATEGORIES:Festivos en España
END:VEVENT
BEGIN:VEVENT
DTSTART;VALUE=DATE:20250504
DTEND;VALUE=DATE:20250505
DTSTAMP:20260426T055040
CREATED:20250212T085258Z
LAST-MODIFIED:20250212T085258Z
UID:10636-1746316800-1746403199@arquireal.im3dia.net
SUMMARY:El Dia de la Madre
DESCRIPTION:
URL:https://arquireal.im3dia.net/actividades/el-dia-de-la-madre-22/
LOCATION:Ciudad Real
CATEGORIES:Festivos en España
END:VEVENT
BEGIN:VEVENT
DTSTART;TZID=Europe/Helsinki:20250516T080000
DTEND;TZID=Europe/Helsinki:20250516T090000
DTSTAMP:20260426T055040
CREATED:20251112T073221Z
LAST-MODIFIED:20251112T073221Z
UID:12879-1747382400-1747386000@arquireal.im3dia.net
SUMMARY:VIAJE ARQUITECTÓNICO DE PRIMAVERA
DESCRIPTION:Un grupo de arquitectos visitaron la antigua Central de Comunicaciones por Satélite en Buitrago de Lozoya\, perteneciente a Telefónica\, obra del año 1967\, de los arquitectos Julio Cano Lasso y José Antonio Ruidrejo Brieva\, edificio de potentes trazas de ladrillo\, y gran abstracción geométrica\, obra maestra del racionalismo de los años 70 en España. Así mismo\, se visitó la Parroquia de Nuestra Señora de la Luz\, obra del año 1967 de José Luis Fernández del Amo. Para terminar\, se visitó la Parroquia de Nuestra Señora de la Fuencisla\, obra de José María García de Paredes\, del año 1961\, edificio situado en el barrio madrileño de Almendrales.
URL:https://arquireal.im3dia.net/actividades/viaje-arquitectonico-de-primavera/
LOCATION:Buitrago de Lozoya y Madrid\, Spain
CATEGORIES:Otras Actividades
ATTACH;FMTTYPE=image/png:https://arquireal.im3dia.net/wp-content/uploads/2025/11/ViajeArqPrimavera.png
END:VEVENT
BEGIN:VEVENT
DTSTART;VALUE=DATE:20250520
DTEND;VALUE=DATE:20250521
DTSTAMP:20260426T055040
CREATED:20251119T085409Z
LAST-MODIFIED:20251119T085409Z
UID:12925-1747699200-1747785599@arquireal.im3dia.net
SUMMARY:Jornada de formación técnica Strugal
DESCRIPTION:Jornada técnica formativa sobre criterios básicos de diseño de ventanas\, impartida por STRUGAL \nA la finalización de la misma\, se ofrecerá aperitivo y networking.
URL:https://arquireal.im3dia.net/actividades/jornada-de-formacion-tecnica-strugal/
LOCATION:Sede de la Demarcación\, Sede de la Demarcación. Calle Carlos López Bustos\, 3. Ciudad Real\, Ciudad Real\, Spain
CATEGORIES:Formación
ATTACH;FMTTYPE=image/jpeg:https://arquireal.im3dia.net/wp-content/uploads/2025/11/Strugal.jpg
END:VEVENT
BEGIN:VEVENT
DTSTART;TZID=Europe/Helsinki:20250530T113000
DTEND;TZID=Europe/Helsinki:20250530T130000
DTSTAMP:20260426T055040
CREATED:20251112T073431Z
LAST-MODIFIED:20251112T073431Z
UID:12883-1748604600-1748610000@arquireal.im3dia.net
SUMMARY:ASAMBLEA GENERAL ORDINARIA
DESCRIPTION:Asamblea General Ordinaria de la Demarcación\, con presentación del balance de cuentas\, previsiones de ingresos y gastos\, y programación prevista para actividades culturales.
URL:https://arquireal.im3dia.net/actividades/asamblea-general-ordinaria-2/
LOCATION:Salón de actos. Sede de la Demarcación\, Salón de actos. Sede de la Demarcación. Calle Carlos López Bustos\, 3. Ciudad Real.\, Ciudad Real\, Spain
CATEGORIES:Otras Actividades
ATTACH;FMTTYPE=image/jpeg:https://arquireal.im3dia.net/wp-content/uploads/2025/11/AsambleaGeneralOrdinaria.jpg
END:VEVENT
BEGIN:VEVENT
DTSTART;VALUE=DATE:20250608
DTEND;VALUE=DATE:20250609
DTSTAMP:20260426T055040
CREATED:20250212T085558Z
LAST-MODIFIED:20250212T085558Z
UID:10661-1749340800-1749427199@arquireal.im3dia.net
SUMMARY:Domingo de Pentecostés
DESCRIPTION:
URL:https://arquireal.im3dia.net/actividades/domingo-de-pentecostes-16/
LOCATION:Ciudad Real
CATEGORIES:Festivos en España
END:VEVENT
BEGIN:VEVENT
DTSTART;VALUE=DATE:20250609
DTEND;VALUE=DATE:20250610
DTSTAMP:20260426T055040
CREATED:20250212T085558Z
LAST-MODIFIED:20250212T085558Z
UID:10662-1749427200-1749513599@arquireal.im3dia.net
SUMMARY:Lunes de Pentecostés
DESCRIPTION:
URL:https://arquireal.im3dia.net/actividades/lunes-de-pentecostes-19/
LOCATION:Ciudad Real
CATEGORIES:Festivos en España
END:VEVENT
BEGIN:VEVENT
DTSTART;VALUE=DATE:20250619
DTEND;VALUE=DATE:20250620
DTSTAMP:20260426T055040
CREATED:20250212T091425Z
LAST-MODIFIED:20250212T091425Z
UID:10910-1750291200-1750377599@arquireal.im3dia.net
SUMMARY:Corpus Christi
DESCRIPTION:
URL:https://arquireal.im3dia.net/actividades/corpus-christi-19/
LOCATION:Ciudad Real
CATEGORIES:Festivos en España
END:VEVENT
BEGIN:VEVENT
DTSTART;VALUE=DATE:20250624
DTEND;VALUE=DATE:20250625
DTSTAMP:20260426T055040
CREATED:20250212T091503Z
LAST-MODIFIED:20250212T091503Z
UID:10937-1750723200-1750809599@arquireal.im3dia.net
SUMMARY:San Juan
DESCRIPTION:
URL:https://arquireal.im3dia.net/actividades/san-juan-19/
LOCATION:Ciudad Real
CATEGORIES:Festivos en España
END:VEVENT
BEGIN:VEVENT
DTSTART;VALUE=DATE:20250725
DTEND;VALUE=DATE:20250726
DTSTAMP:20260426T055040
CREATED:20250212T091425Z
LAST-MODIFIED:20250212T091425Z
UID:10911-1753401600-1753487999@arquireal.im3dia.net
SUMMARY:Santiago Apóstol
DESCRIPTION:
URL:https://arquireal.im3dia.net/actividades/santiago-apostol-16/
LOCATION:Ciudad Real
CATEGORIES:Festivos en España
END:VEVENT
BEGIN:VEVENT
DTSTART;VALUE=DATE:20250815
DTEND;VALUE=DATE:20250816
DTSTAMP:20260426T055040
CREATED:20250212T091217Z
LAST-MODIFIED:20250212T091217Z
UID:10826-1755216000-1755302399@arquireal.im3dia.net
SUMMARY:La Asunción de la Virgen
DESCRIPTION:Día festivo
URL:https://arquireal.im3dia.net/actividades/la-asuncion-de-la-virgen-19/
LOCATION:Ciudad Real
CATEGORIES:Festivos en España
END:VEVENT
BEGIN:VEVENT
DTSTART;VALUE=DATE:20251012
DTEND;VALUE=DATE:20251013
DTSTAMP:20260426T055040
CREATED:20250212T091302Z
LAST-MODIFIED:20250212T091302Z
UID:10847-1760227200-1760313599@arquireal.im3dia.net
SUMMARY:Día de la Hispanidad
DESCRIPTION:
URL:https://arquireal.im3dia.net/actividades/dia-de-la-hispanidad-28/
LOCATION:Ciudad Real
CATEGORIES:Festivos en España
END:VEVENT
BEGIN:VEVENT
DTSTART;VALUE=DATE:20251013
DTEND;VALUE=DATE:20251014
DTSTAMP:20260426T055040
CREATED:20250212T091543Z
LAST-MODIFIED:20250212T091543Z
UID:10953-1760313600-1760399999@arquireal.im3dia.net
SUMMARY:Lunes siguiente a la Día de la Hispanidad (festivo regional)
DESCRIPTION:Festivo en Andalucía\, Extremadura\, Aragón\, Asturias\, Castilla y León
URL:https://arquireal.im3dia.net/actividades/lunes-siguiente-a-la-dia-de-la-hispanidad-festivo-regional-3/
LOCATION:Ciudad Real
CATEGORIES:Festivos en España
END:VEVENT
BEGIN:VEVENT
DTSTART;VALUE=DATE:20251026
DTEND;VALUE=DATE:20251027
DTSTAMP:20260426T055040
CREATED:20250212T091217Z
LAST-MODIFIED:20250212T091217Z
UID:10827-1761436800-1761523199@arquireal.im3dia.net
SUMMARY:Cambio de horario de invierno
DESCRIPTION:
URL:https://arquireal.im3dia.net/actividades/cambio-de-horario-de-invierno-20/
LOCATION:Ciudad Real
CATEGORIES:Festivos en España
END:VEVENT
BEGIN:VEVENT
DTSTART;VALUE=DATE:20251101
DTEND;VALUE=DATE:20251102
DTSTAMP:20260426T055040
CREATED:20250212T091021Z
LAST-MODIFIED:20250212T091021Z
UID:10780-1761955200-1762041599@arquireal.im3dia.net
SUMMARY:Día de Todos los Santos
DESCRIPTION:Día festivo
URL:https://arquireal.im3dia.net/actividades/dia-de-todos-los-santos-21/
LOCATION:Ciudad Real
CATEGORIES:Festivos en España
END:VEVENT
BEGIN:VEVENT
DTSTART;VALUE=DATE:20251206
DTEND;VALUE=DATE:20251207
DTSTAMP:20260426T055040
CREATED:20250212T090929Z
LAST-MODIFIED:20250212T090929Z
UID:10762-1764979200-1765065599@arquireal.im3dia.net
SUMMARY:Día de la Constitución Española
DESCRIPTION:Día festivo
URL:https://arquireal.im3dia.net/actividades/dia-de-la-constitucion-espanola-23/
LOCATION:Ciudad Real
CATEGORIES:Festivos en España
END:VEVENT
BEGIN:VEVENT
DTSTART;VALUE=DATE:20251208
DTEND;VALUE=DATE:20251209
DTSTAMP:20260426T055040
CREATED:20250212T090159Z
LAST-MODIFIED:20250212T090159Z
UID:10704-1765152000-1765238399@arquireal.im3dia.net
SUMMARY:La Inmaculada Concepción
DESCRIPTION:Día festivo
URL:https://arquireal.im3dia.net/actividades/la-inmaculada-concepcion-23/
LOCATION:Ciudad Real
CATEGORIES:Festivos en España
END:VEVENT
BEGIN:VEVENT
DTSTART;VALUE=DATE:20251224
DTEND;VALUE=DATE:20251225
DTSTAMP:20260426T055040
CREATED:20250212T085909Z
LAST-MODIFIED:20250212T085909Z
UID:10687-1766534400-1766620799@arquireal.im3dia.net
SUMMARY:Nochebuena
DESCRIPTION:
URL:https://arquireal.im3dia.net/actividades/nochebuena-14/
LOCATION:Ciudad Real
CATEGORIES:Festivos en España
END:VEVENT
BEGIN:VEVENT
DTSTART;VALUE=DATE:20251225
DTEND;VALUE=DATE:20251226
DTSTAMP:20260426T055040
CREATED:20250212T085258Z
LAST-MODIFIED:20250212T085258Z
UID:10637-1766620800-1766707199@arquireal.im3dia.net
SUMMARY:Navidad
DESCRIPTION:Día festivo
URL:https://arquireal.im3dia.net/actividades/navidad-11/
LOCATION:Ciudad Real
CATEGORIES:Festivos en España
END:VEVENT
BEGIN:VEVENT
DTSTART;VALUE=DATE:20251228
DTEND;VALUE=DATE:20251229
DTSTAMP:20260426T055040
CREATED:20250212T091346Z
LAST-MODIFIED:20250212T091346Z
UID:10874-1766880000-1766966399@arquireal.im3dia.net
SUMMARY:Día de la Sagrada Familia
DESCRIPTION:
URL:https://arquireal.im3dia.net/actividades/dia-de-la-sagrada-familia-20/
LOCATION:Ciudad Real
CATEGORIES:Festivos en España
END:VEVENT
BEGIN:VEVENT
DTSTART;VALUE=DATE:20251231
DTEND;VALUE=DATE:20260101
DTSTAMP:20260426T055040
CREATED:20250212T085158Z
LAST-MODIFIED:20250212T085158Z
UID:10619-1767139200-1767225599@arquireal.im3dia.net
SUMMARY:Nochevieja
DESCRIPTION:
URL:https://arquireal.im3dia.net/actividades/nochevieja-13/
LOCATION:Ciudad Real
CATEGORIES:Festivos en España
END:VEVENT
BEGIN:VEVENT
DTSTART;VALUE=DATE:20260101
DTEND;VALUE=DATE:20260102
DTSTAMP:20260426T055040
CREATED:20250212T081905Z
LAST-MODIFIED:20250212T091142Z
UID:10347-1767225600-1767311999@arquireal.im3dia.net
SUMMARY:Año Nuevo
DESCRIPTION:Día festivo
URL:https://arquireal.im3dia.net/actividades/ano-nuevo-20/
LOCATION:Ciudad Real
CATEGORIES:Festivos en España
END:VEVENT
BEGIN:VEVENT
DTSTART;VALUE=DATE:20260102
DTEND;VALUE=DATE:20260103
DTSTAMP:20260426T055040
CREATED:20250212T091527Z
LAST-MODIFIED:20250212T091527Z
UID:10949-1767312000-1767398399@arquireal.im3dia.net
SUMMARY:Reconquista
DESCRIPTION:
URL:https://arquireal.im3dia.net/actividades/reconquista-29/
LOCATION:Ciudad Real
CATEGORIES:Festivos en España
END:VEVENT
BEGIN:VEVENT
DTSTART;VALUE=DATE:20260106
DTEND;VALUE=DATE:20260107
DTSTAMP:20260426T055040
CREATED:20250212T085558Z
LAST-MODIFIED:20250212T085558Z
UID:10663-1767657600-1767743999@arquireal.im3dia.net
SUMMARY:Epifanía del Señor
DESCRIPTION:Día festivo
URL:https://arquireal.im3dia.net/actividades/epifania-del-senor-27/
LOCATION:Ciudad Real
CATEGORIES:Festivos en España
END:VEVENT
END:VCALENDAR