BEGIN:VCALENDAR
VERSION:2.0
PRODID:-//Arquireal - ECPv6.15.13.1//NONSGML v1.0//EN
CALSCALE:GREGORIAN
METHOD:PUBLISH
X-ORIGINAL-URL:https://arquireal.im3dia.net
X-WR-CALDESC:Eventos para Arquireal
REFRESH-INTERVAL;VALUE=DURATION:PT1H
X-Robots-Tag:noindex
X-PUBLISHED-TTL:PT1H
BEGIN:VTIMEZONE
TZID:Europe/Helsinki
BEGIN:DAYLIGHT
TZOFFSETFROM:+0200
TZOFFSETTO:+0300
TZNAME:EEST
DTSTART:20260329T010000
END:DAYLIGHT
BEGIN:STANDARD
TZOFFSETFROM:+0300
TZOFFSETTO:+0200
TZNAME:EET
DTSTART:20261025T010000
END:STANDARD
BEGIN:DAYLIGHT
TZOFFSETFROM:+0200
TZOFFSETTO:+0300
TZNAME:EEST
DTSTART:20270328T010000
END:DAYLIGHT
BEGIN:STANDARD
TZOFFSETFROM:+0300
TZOFFSETTO:+0200
TZNAME:EET
DTSTART:20271031T010000
END:STANDARD
BEGIN:DAYLIGHT
TZOFFSETFROM:+0200
TZOFFSETTO:+0300
TZNAME:EEST
DTSTART:20280326T010000
END:DAYLIGHT
BEGIN:STANDARD
TZOFFSETFROM:+0300
TZOFFSETTO:+0200
TZNAME:EET
DTSTART:20281029T010000
END:STANDARD
BEGIN:DAYLIGHT
TZOFFSETFROM:+0200
TZOFFSETTO:+0300
TZNAME:EEST
DTSTART:20290325T010000
END:DAYLIGHT
BEGIN:STANDARD
TZOFFSETFROM:+0300
TZOFFSETTO:+0200
TZNAME:EET
DTSTART:20291028T010000
END:STANDARD
END:VTIMEZONE
BEGIN:VEVENT
DTSTART;VALUE=DATE:20270325
DTEND;VALUE=DATE:20270326
DTSTAMP:20260423T035521
CREATED:20250212T091358Z
LAST-MODIFIED:20250212T091358Z
UID:10884-1805932800-1806019199@arquireal.im3dia.net
SUMMARY:Jueves Santo
DESCRIPTION:
URL:https://arquireal.im3dia.net/actividades/jueves-santo-17/
LOCATION:Ciudad Real
CATEGORIES:Festivos en España
END:VEVENT
BEGIN:VEVENT
DTSTART;VALUE=DATE:20270326
DTEND;VALUE=DATE:20270327
DTSTAMP:20260423T035521
CREATED:20250212T091147Z
LAST-MODIFIED:20250212T091147Z
UID:10803-1806019200-1806105599@arquireal.im3dia.net
SUMMARY:Viernes Santo
DESCRIPTION:Día festivo
URL:https://arquireal.im3dia.net/actividades/viernes-santo-24/
LOCATION:Ciudad Real
CATEGORIES:Festivos en España
END:VEVENT
BEGIN:VEVENT
DTSTART;VALUE=DATE:20270327
DTEND;VALUE=DATE:20270328
DTSTAMP:20260423T035521
CREATED:20250212T091030Z
LAST-MODIFIED:20250212T091030Z
UID:10783-1806105600-1806191999@arquireal.im3dia.net
SUMMARY:Sábado Santo
DESCRIPTION:
URL:https://arquireal.im3dia.net/actividades/sabado-santo-22/
LOCATION:Ciudad Real
CATEGORIES:Festivos en España
END:VEVENT
BEGIN:VEVENT
DTSTART;VALUE=DATE:20270328
DTEND;VALUE=DATE:20270329
DTSTAMP:20260423T035521
CREATED:20250212T085313Z
LAST-MODIFIED:20250212T085313Z
UID:10642-1806192000-1806278399@arquireal.im3dia.net
SUMMARY:Cambio de Horario de Verano
DESCRIPTION:
URL:https://arquireal.im3dia.net/actividades/cambio-de-horario-de-verano-14/
LOCATION:Ciudad Real
CATEGORIES:Festivos en España
END:VEVENT
BEGIN:VEVENT
DTSTART;VALUE=DATE:20270328
DTEND;VALUE=DATE:20270329
DTSTAMP:20260423T035521
CREATED:20250212T091346Z
LAST-MODIFIED:20250212T091346Z
UID:10875-1806192000-1806278399@arquireal.im3dia.net
SUMMARY:Domingo de Pascua
DESCRIPTION:
URL:https://arquireal.im3dia.net/actividades/domingo-de-pascua-25/
LOCATION:Ciudad Real
CATEGORIES:Festivos en España
END:VEVENT
BEGIN:VEVENT
DTSTART;VALUE=DATE:20270329
DTEND;VALUE=DATE:20270330
DTSTAMP:20260423T035521
CREATED:20250212T091432Z
LAST-MODIFIED:20250212T091432Z
UID:10918-1806278400-1806364799@arquireal.im3dia.net
SUMMARY:Lunes de Pascua
DESCRIPTION:
URL:https://arquireal.im3dia.net/actividades/lunes-de-pascua-24/
LOCATION:Ciudad Real
CATEGORIES:Festivos en España
END:VEVENT
BEGIN:VEVENT
DTSTART;VALUE=DATE:20270423
DTEND;VALUE=DATE:20270424
DTSTAMP:20260423T035521
CREATED:20250212T085313Z
LAST-MODIFIED:20250212T085313Z
UID:10643-1808438400-1808524799@arquireal.im3dia.net
SUMMARY:Día de San Jorge
DESCRIPTION:
URL:https://arquireal.im3dia.net/actividades/dia-de-san-jorge-12/
LOCATION:Ciudad Real
CATEGORIES:Festivos en España
END:VEVENT
BEGIN:VEVENT
DTSTART;VALUE=DATE:20270501
DTEND;VALUE=DATE:20270502
DTSTAMP:20260423T035521
CREATED:20250212T091147Z
LAST-MODIFIED:20250212T091147Z
UID:10804-1809129600-1809215999@arquireal.im3dia.net
SUMMARY:Día del trabajador
DESCRIPTION:Día festivo
URL:https://arquireal.im3dia.net/actividades/dia-del-trabajador-25/
LOCATION:Ciudad Real
CATEGORIES:Festivos en España
END:VEVENT
BEGIN:VEVENT
DTSTART;VALUE=DATE:20270502
DTEND;VALUE=DATE:20270503
DTSTAMP:20260423T035521
CREATED:20250212T090935Z
LAST-MODIFIED:20250212T090935Z
UID:10765-1809216000-1809302399@arquireal.im3dia.net
SUMMARY:El Dia de la Madre
DESCRIPTION:
URL:https://arquireal.im3dia.net/actividades/el-dia-de-la-madre-26/
LOCATION:Ciudad Real
CATEGORIES:Festivos en España
END:VEVENT
BEGIN:VEVENT
DTSTART;VALUE=DATE:20270516
DTEND;VALUE=DATE:20270517
DTSTAMP:20260423T035521
CREATED:20250212T090214Z
LAST-MODIFIED:20250212T090214Z
UID:10706-1810425600-1810511999@arquireal.im3dia.net
SUMMARY:Domingo de Pentecostés
DESCRIPTION:
URL:https://arquireal.im3dia.net/actividades/domingo-de-pentecostes-17/
LOCATION:Ciudad Real
CATEGORIES:Festivos en España
END:VEVENT
BEGIN:VEVENT
DTSTART;VALUE=DATE:20270517
DTEND;VALUE=DATE:20270518
DTSTAMP:20260423T035521
CREATED:20250212T091147Z
LAST-MODIFIED:20250212T091147Z
UID:10805-1810512000-1810598399@arquireal.im3dia.net
SUMMARY:Lunes de Pentecostés
DESCRIPTION:
URL:https://arquireal.im3dia.net/actividades/lunes-de-pentecostes-24/
LOCATION:Ciudad Real
CATEGORIES:Festivos en España
END:VEVENT
BEGIN:VEVENT
DTSTART;VALUE=DATE:20270527
DTEND;VALUE=DATE:20270528
DTSTAMP:20260423T035521
CREATED:20250212T091503Z
LAST-MODIFIED:20250212T091503Z
UID:10939-1811376000-1811462399@arquireal.im3dia.net
SUMMARY:Corpus Christi
DESCRIPTION:
URL:https://arquireal.im3dia.net/actividades/corpus-christi-25/
LOCATION:Ciudad Real
CATEGORIES:Festivos en España
END:VEVENT
BEGIN:VEVENT
DTSTART;VALUE=DATE:20270624
DTEND;VALUE=DATE:20270625
DTSTAMP:20260423T035521
CREATED:20250212T091503Z
LAST-MODIFIED:20250212T091503Z
UID:10940-1813795200-1813881599@arquireal.im3dia.net
SUMMARY:San Juan
DESCRIPTION:
URL:https://arquireal.im3dia.net/actividades/san-juan-20/
LOCATION:Ciudad Real
CATEGORIES:Festivos en España
END:VEVENT
BEGIN:VEVENT
DTSTART;VALUE=DATE:20270725
DTEND;VALUE=DATE:20270726
DTSTAMP:20260423T035521
CREATED:20250212T091432Z
LAST-MODIFIED:20250212T091432Z
UID:10919-1816473600-1816559999@arquireal.im3dia.net
SUMMARY:Santiago Apóstol
DESCRIPTION:
URL:https://arquireal.im3dia.net/actividades/santiago-apostol-18/
LOCATION:Ciudad Real
CATEGORIES:Festivos en España
END:VEVENT
BEGIN:VEVENT
DTSTART;VALUE=DATE:20270815
DTEND;VALUE=DATE:20270816
DTSTAMP:20260423T035521
CREATED:20250212T091346Z
LAST-MODIFIED:20250212T091346Z
UID:10876-1818288000-1818374399@arquireal.im3dia.net
SUMMARY:La Asunción de la Virgen
DESCRIPTION:Día festivo
URL:https://arquireal.im3dia.net/actividades/la-asuncion-de-la-virgen-20/
LOCATION:Ciudad Real
CATEGORIES:Festivos en España
END:VEVENT
BEGIN:VEVENT
DTSTART;VALUE=DATE:20270816
DTEND;VALUE=DATE:20270817
DTSTAMP:20260423T035521
CREATED:20250212T091147Z
LAST-MODIFIED:20250212T091147Z
UID:10806-1818374400-1818460799@arquireal.im3dia.net
SUMMARY:al trasladar el descanso laboral del 15 de agosto
DESCRIPTION:Día festivo
URL:https://arquireal.im3dia.net/actividades/al-trasladar-el-descanso-laboral-del-15-de-agosto-3/
LOCATION:Ciudad Real
CATEGORIES:Festivos en España
END:VEVENT
BEGIN:VEVENT
DTSTART;VALUE=DATE:20271012
DTEND;VALUE=DATE:20271013
DTSTAMP:20260423T035521
CREATED:20250212T085313Z
LAST-MODIFIED:20250212T085313Z
UID:10644-1823299200-1823385599@arquireal.im3dia.net
SUMMARY:Día de la Hispanidad
DESCRIPTION:Día festivo
URL:https://arquireal.im3dia.net/actividades/dia-de-la-hispanidad-22/
LOCATION:Ciudad Real
CATEGORIES:Festivos en España
END:VEVENT
BEGIN:VEVENT
DTSTART;VALUE=DATE:20271031
DTEND;VALUE=DATE:20271101
DTSTAMP:20260423T035521
CREATED:20250212T091030Z
LAST-MODIFIED:20250212T091030Z
UID:10784-1824940800-1825027199@arquireal.im3dia.net
SUMMARY:Cambio de horario de invierno
DESCRIPTION:
URL:https://arquireal.im3dia.net/actividades/cambio-de-horario-de-invierno-18/
LOCATION:Ciudad Real
CATEGORIES:Festivos en España
END:VEVENT
BEGIN:VEVENT
DTSTART;VALUE=DATE:20271101
DTEND;VALUE=DATE:20271102
DTSTAMP:20260423T035521
CREATED:20250212T090300Z
LAST-MODIFIED:20250212T090300Z
UID:10724-1825027200-1825113599@arquireal.im3dia.net
SUMMARY:Día de Todos los Santos
DESCRIPTION:Día festivo
URL:https://arquireal.im3dia.net/actividades/dia-de-todos-los-santos-18/
LOCATION:Ciudad Real
CATEGORIES:Festivos en España
END:VEVENT
BEGIN:VEVENT
DTSTART;VALUE=DATE:20271206
DTEND;VALUE=DATE:20271207
DTSTAMP:20260423T035521
CREATED:20250212T085617Z
LAST-MODIFIED:20250212T085617Z
UID:10667-1828051200-1828137599@arquireal.im3dia.net
SUMMARY:Día de la Constitución Española
DESCRIPTION:Día festivo
URL:https://arquireal.im3dia.net/actividades/dia-de-la-constitucion-espanola-21/
LOCATION:Ciudad Real
CATEGORIES:Festivos en España
END:VEVENT
BEGIN:VEVENT
DTSTART;VALUE=DATE:20271208
DTEND;VALUE=DATE:20271209
DTSTAMP:20260423T035521
CREATED:20250212T090300Z
LAST-MODIFIED:20250212T090300Z
UID:10725-1828224000-1828310399@arquireal.im3dia.net
SUMMARY:La Inmaculada Concepción
DESCRIPTION:Día festivo
URL:https://arquireal.im3dia.net/actividades/la-inmaculada-concepcion-25/
LOCATION:Ciudad Real
CATEGORIES:Festivos en España
END:VEVENT
BEGIN:VEVENT
DTSTART;VALUE=DATE:20271224
DTEND;VALUE=DATE:20271225
DTSTAMP:20260423T035521
CREATED:20250212T085617Z
LAST-MODIFIED:20250212T085617Z
UID:10668-1829606400-1829692799@arquireal.im3dia.net
SUMMARY:Nochebuena
DESCRIPTION:
URL:https://arquireal.im3dia.net/actividades/nochebuena-12/
LOCATION:Ciudad Real
CATEGORIES:Festivos en España
END:VEVENT
BEGIN:VEVENT
DTSTART;VALUE=DATE:20271225
DTEND;VALUE=DATE:20271226
DTSTAMP:20260423T035521
CREATED:20250212T091232Z
LAST-MODIFIED:20250212T091232Z
UID:10832-1829692800-1829779199@arquireal.im3dia.net
SUMMARY:Navidad
DESCRIPTION:Día festivo
URL:https://arquireal.im3dia.net/actividades/navidad-19/
LOCATION:Ciudad Real
CATEGORIES:Festivos en España
END:VEVENT
BEGIN:VEVENT
DTSTART;VALUE=DATE:20271226
DTEND;VALUE=DATE:20271227
DTSTAMP:20260423T035521
CREATED:20250212T091147Z
LAST-MODIFIED:20250212T091147Z
UID:10807-1829779200-1829865599@arquireal.im3dia.net
SUMMARY:Día de la Sagrada Familia
DESCRIPTION:
URL:https://arquireal.im3dia.net/actividades/dia-de-la-sagrada-familia-19/
LOCATION:Ciudad Real
CATEGORIES:Festivos en España
END:VEVENT
BEGIN:VEVENT
DTSTART;VALUE=DATE:20271231
DTEND;VALUE=DATE:20280101
DTSTAMP:20260423T035521
CREATED:20250212T090214Z
LAST-MODIFIED:20250212T090214Z
UID:10707-1830211200-1830297599@arquireal.im3dia.net
SUMMARY:Nochevieja
DESCRIPTION:
URL:https://arquireal.im3dia.net/actividades/nochevieja-17/
LOCATION:Ciudad Real
CATEGORIES:Festivos en España
END:VEVENT
BEGIN:VEVENT
DTSTART;VALUE=DATE:20280101
DTEND;VALUE=DATE:20280102
DTSTAMP:20260423T035521
CREATED:20250212T081408Z
LAST-MODIFIED:20250212T090935Z
UID:10327-1830297600-1830383999@arquireal.im3dia.net
SUMMARY:Año Nuevo
DESCRIPTION:Día festivo
URL:https://arquireal.im3dia.net/actividades/ano-nuevo-19/
LOCATION:Ciudad Real
CATEGORIES:Festivos en España
END:VEVENT
BEGIN:VEVENT
DTSTART;VALUE=DATE:20280102
DTEND;VALUE=DATE:20280103
DTSTAMP:20260423T035521
CREATED:20250212T091527Z
LAST-MODIFIED:20250212T091527Z
UID:10951-1830384000-1830470399@arquireal.im3dia.net
SUMMARY:Reconquista
DESCRIPTION:
URL:https://arquireal.im3dia.net/actividades/reconquista-31/
LOCATION:Ciudad Real
CATEGORIES:Festivos en España
END:VEVENT
BEGIN:VEVENT
DTSTART;VALUE=DATE:20280106
DTEND;VALUE=DATE:20280107
DTSTAMP:20260423T035521
CREATED:20250212T091030Z
LAST-MODIFIED:20250212T091030Z
UID:10785-1830729600-1830815999@arquireal.im3dia.net
SUMMARY:Epifanía del Señor
DESCRIPTION:Día festivo
URL:https://arquireal.im3dia.net/actividades/epifania-del-senor-30/
LOCATION:Ciudad Real
CATEGORIES:Festivos en España
END:VEVENT
BEGIN:VEVENT
DTSTART;VALUE=DATE:20280214
DTEND;VALUE=DATE:20280215
DTSTAMP:20260423T035521
CREATED:20250212T085313Z
LAST-MODIFIED:20250212T085313Z
UID:10645-1834099200-1834185599@arquireal.im3dia.net
SUMMARY:Día de San Valentín
DESCRIPTION:
URL:https://arquireal.im3dia.net/actividades/dia-de-san-valentin-14/
LOCATION:Ciudad Real
CATEGORIES:Festivos en España
END:VEVENT
BEGIN:VEVENT
DTSTART;VALUE=DATE:20280228
DTEND;VALUE=DATE:20280229
DTSTAMP:20260423T035521
CREATED:20250212T085328Z
LAST-MODIFIED:20250212T085328Z
UID:10646-1835308800-1835395199@arquireal.im3dia.net
SUMMARY:Lunes de Carnaval
DESCRIPTION:
URL:https://arquireal.im3dia.net/actividades/lunes-de-carnaval-21/
LOCATION:Ciudad Real
CATEGORIES:Festivos en España
END:VEVENT
END:VCALENDAR