BEGIN:VCALENDAR
VERSION:2.0
PRODID:-//Arquireal - ECPv6.15.13.1//NONSGML v1.0//EN
CALSCALE:GREGORIAN
METHOD:PUBLISH
X-ORIGINAL-URL:https://arquireal.im3dia.net
X-WR-CALDESC:Eventos para Arquireal
REFRESH-INTERVAL;VALUE=DURATION:PT1H
X-Robots-Tag:noindex
X-PUBLISHED-TTL:PT1H
BEGIN:VTIMEZONE
TZID:Europe/Helsinki
BEGIN:DAYLIGHT
TZOFFSETFROM:+0200
TZOFFSETTO:+0300
TZNAME:EEST
DTSTART:20230326T010000
END:DAYLIGHT
BEGIN:STANDARD
TZOFFSETFROM:+0300
TZOFFSETTO:+0200
TZNAME:EET
DTSTART:20231029T010000
END:STANDARD
BEGIN:DAYLIGHT
TZOFFSETFROM:+0200
TZOFFSETTO:+0300
TZNAME:EEST
DTSTART:20240331T010000
END:DAYLIGHT
BEGIN:STANDARD
TZOFFSETFROM:+0300
TZOFFSETTO:+0200
TZNAME:EET
DTSTART:20241027T010000
END:STANDARD
BEGIN:DAYLIGHT
TZOFFSETFROM:+0200
TZOFFSETTO:+0300
TZNAME:EEST
DTSTART:20250330T010000
END:DAYLIGHT
BEGIN:STANDARD
TZOFFSETFROM:+0300
TZOFFSETTO:+0200
TZNAME:EET
DTSTART:20251026T010000
END:STANDARD
BEGIN:DAYLIGHT
TZOFFSETFROM:+0200
TZOFFSETTO:+0300
TZNAME:EEST
DTSTART:20260329T010000
END:DAYLIGHT
BEGIN:STANDARD
TZOFFSETFROM:+0300
TZOFFSETTO:+0200
TZNAME:EET
DTSTART:20261025T010000
END:STANDARD
END:VTIMEZONE
BEGIN:VEVENT
DTSTART;TZID=Europe/Helsinki:20250228T130000
DTEND;TZID=Europe/Helsinki:20250228T140000
DTSTAMP:20260423T092604
CREATED:20251112T065727Z
LAST-MODIFIED:20251112T070103Z
UID:12852-1740747600-1740751200@arquireal.im3dia.net
SUMMARY:TERCERA VISITA A LA CIUDAD ADMINISTRATIVA
DESCRIPTION:Tercera y última de las tres visitas programadas a la futura Ciudad Administrativa de JCCM en Ciudad Real (antiguo Hospital Provincial\, obra del arquitecto Jesús García del Castillo). De especial interés el sistema ventilado cerámico de la envolvente del edificio.
URL:https://arquireal.im3dia.net/actividades/tercera-visita-a-la-ciudad-administrativa/
LOCATION:Antiguo Hospital del Carmen\, Antiguo Hospital del Carmen. Carretera de Porzuna\, s/n. Ciudad Real\, Ciudad Real\, Spain
CATEGORIES:Otras Actividades
ATTACH;FMTTYPE=image/jpeg:https://arquireal.im3dia.net/wp-content/uploads/2025/11/Tercera-visita-Ciudad-Administrativa.jpg
END:VEVENT
BEGIN:VEVENT
DTSTART;TZID=Europe/Helsinki:20250214T130000
DTEND;TZID=Europe/Helsinki:20250214T140000
DTSTAMP:20260423T092604
CREATED:20251112T065253Z
LAST-MODIFIED:20251112T065444Z
UID:12849-1739538000-1739541600@arquireal.im3dia.net
SUMMARY:SEGUNDA VISITA A LA CIUDAD ADMINISTRATIVA
DESCRIPTION:Segunda de las tres visitas programadas a la futura Ciudad Administrativa de JCCM en Ciudad Real (antiguo Hospital Provincial\, obra del arquitecto Jesús García del Castillo). De especial interés el sistema ventilado cerámico de la envolvente del edificio.
URL:https://arquireal.im3dia.net/actividades/segunda-visita-a-la-ciudad-administrativa/
LOCATION:Antiguo Hospital del Carmen\, Antiguo Hospital del Carmen. Carretera de Porzuna\, s/n. Ciudad Real\, Ciudad Real\, Spain
CATEGORIES:Otras Actividades
ATTACH;FMTTYPE=image/jpeg:https://arquireal.im3dia.net/wp-content/uploads/2025/11/Segunda-visita-Ciudad-Administrativa-e1762930349418.jpg
END:VEVENT
BEGIN:VEVENT
DTSTART;TZID=Europe/Helsinki:20250214T123000
DTEND;TZID=Europe/Helsinki:20250214T133000
DTSTAMP:20260423T092604
CREATED:20251112T064330Z
LAST-MODIFIED:20251112T064750Z
UID:12846-1739536200-1739539800@arquireal.im3dia.net
SUMMARY:REUNIÓN CON DIPUTACIÓN
DESCRIPTION:El Colegio de Arquitectos de la mano de su presidente y de la vocal encargada de relaciones con las administraciones se reunieron con el Presidente de la Diputación de Ciudad Real\, Miguel Ángel Valverde Menchero\, para ofrecer la colaboración del Colegio a la Institución Provincial.
URL:https://arquireal.im3dia.net/actividades/reunion-con-diputacion/
LOCATION:Palacio de la Diputación\, Palacio de la Diputación. Calle Toledo\, 17. Plaza de la Diputación. Ciudad Real.\, Ciudad Real\, Spain
CATEGORIES:Otras Actividades
ATTACH;FMTTYPE=image/jpeg:https://arquireal.im3dia.net/wp-content/uploads/2025/11/Reunion-Diputacion.jpg
END:VEVENT
BEGIN:VEVENT
DTSTART;VALUE=DATE:20250214
DTEND;VALUE=DATE:20250215
DTSTAMP:20260423T092604
CREATED:20250212T091301Z
LAST-MODIFIED:20250212T091301Z
UID:10845-1739491200-1739577599@arquireal.im3dia.net
SUMMARY:Día de San Valentín
DESCRIPTION:
URL:https://arquireal.im3dia.net/actividades/dia-de-san-valentin-22/
LOCATION:Ciudad Real
CATEGORIES:Festivos en España
END:VEVENT
BEGIN:VEVENT
DTSTART;TZID=Europe/Helsinki:20250207T130000
DTEND;TZID=Europe/Helsinki:20250207T140000
DTSTAMP:20260423T092604
CREATED:20251112T062539Z
LAST-MODIFIED:20251112T062539Z
UID:12841-1738933200-1738936800@arquireal.im3dia.net
SUMMARY:PRIMERA VISITA A LA CIUDAD ADMINISTRATIVA
DESCRIPTION:Primera de las tres visitas programadas a la futura Ciudad Administrativa de JCCM en Ciudad Real (antiguo Hospital Provincial\, obra del arquitecto Jesús García del Castillo). De especial interés el sistema ventilado cerámico de la envolvente del edificio.
URL:https://arquireal.im3dia.net/actividades/primera-visita-a-la-ciudad-administrativa/
LOCATION:Antiguo Hospital del Carmen\, Antiguo Hospital del Carmen. Carretera de Porzuna\, s/n. Ciudad Real\, Ciudad Real\, Spain
CATEGORIES:Otras Actividades
ATTACH;FMTTYPE=image/jpeg:https://arquireal.im3dia.net/wp-content/uploads/2025/11/Ciudad-administrativa.jpg
END:VEVENT
BEGIN:VEVENT
DTSTART;TZID=Europe/Helsinki:20250131T113000
DTEND;TZID=Europe/Helsinki:20250131T130000
DTSTAMP:20260423T092604
CREATED:20251111T111233Z
LAST-MODIFIED:20251111T111233Z
UID:12837-1738323000-1738328400@arquireal.im3dia.net
SUMMARY:VISITA A LAS CUEVAS DE TOMELLOSO E INAGURACION DE EXPOSICION
DESCRIPTION:De la mano de los profesores de la Escuela de Arquitectura de Toledo y de los técnicos municipales de Tomelloso\, pudimos visitar in situ las cuevas estabilizadas\, para conocer el problema de colapsos que sufre la población. \nEsa misma tardes\, se inauguró la exposición “BAJO TOMELLOSO. RECUPERACIÓN DE CUEVAS Y ARENEROS”\, en el Espacio Fisac. Sede de la Demarcación.
URL:https://arquireal.im3dia.net/actividades/visita-a-las-cuevas-de-tomelloso-e-inaguracion-de-exposicion/
LOCATION:Cuevas de Tomelloso\, Cuevas de Tomelloso. Avenida Príncipe Alfonso esquina calle Almería. Tomelloso.\, Tomelloso\, Spain
CATEGORIES:Otras Actividades
ATTACH;FMTTYPE=image/png:https://arquireal.im3dia.net/wp-content/uploads/2025/11/CuevasTomelloso.png
END:VEVENT
BEGIN:VEVENT
DTSTART;VALUE=DATE:20250106
DTEND;VALUE=DATE:20250107
DTSTAMP:20260423T092604
CREATED:20250212T091142Z
LAST-MODIFIED:20250212T091142Z
UID:10801-1736121600-1736207999@arquireal.im3dia.net
SUMMARY:Epifanía del Señor
DESCRIPTION:Día festivo
URL:https://arquireal.im3dia.net/actividades/epifania-del-senor-31/
LOCATION:Ciudad Real
CATEGORIES:Festivos en España
END:VEVENT
BEGIN:VEVENT
DTSTART;VALUE=DATE:20250102
DTEND;VALUE=DATE:20250103
DTSTAMP:20260423T092604
CREATED:20250212T091527Z
LAST-MODIFIED:20250212T091527Z
UID:10948-1735776000-1735862399@arquireal.im3dia.net
SUMMARY:Reconquista
DESCRIPTION:
URL:https://arquireal.im3dia.net/actividades/reconquista-28/
LOCATION:Ciudad Real
CATEGORIES:Festivos en España
END:VEVENT
BEGIN:VEVENT
DTSTART;VALUE=DATE:20250101
DTEND;VALUE=DATE:20250102
DTSTAMP:20260423T092604
CREATED:20250212T080409Z
LAST-MODIFIED:20250212T085710Z
UID:10275-1735689600-1735775999@arquireal.im3dia.net
SUMMARY:Año Nuevo
DESCRIPTION:Día festivo
URL:https://arquireal.im3dia.net/actividades/ano-nuevo-15/
LOCATION:Ciudad Real
CATEGORIES:Festivos en España
END:VEVENT
BEGIN:VEVENT
DTSTART;VALUE=DATE:20241231
DTEND;VALUE=DATE:20250101
DTSTAMP:20260423T092604
CREATED:20250212T091142Z
LAST-MODIFIED:20250212T091142Z
UID:10800-1735603200-1735689599@arquireal.im3dia.net
SUMMARY:Nochevieja
DESCRIPTION:
URL:https://arquireal.im3dia.net/actividades/nochevieja-21/
LOCATION:Ciudad Real
CATEGORIES:Festivos en España
END:VEVENT
BEGIN:VEVENT
DTSTART;VALUE=DATE:20241229
DTEND;VALUE=DATE:20241230
DTSTAMP:20260423T092604
CREATED:20250212T090244Z
LAST-MODIFIED:20250212T090244Z
UID:10717-1735430400-1735516799@arquireal.im3dia.net
SUMMARY:Día de la Sagrada Familia
DESCRIPTION:
URL:https://arquireal.im3dia.net/actividades/dia-de-la-sagrada-familia-14/
LOCATION:Ciudad Real
CATEGORIES:Festivos en España
END:VEVENT
BEGIN:VEVENT
DTSTART;VALUE=DATE:20241225
DTEND;VALUE=DATE:20241226
DTSTAMP:20260423T092604
CREATED:20250212T090929Z
LAST-MODIFIED:20250212T090929Z
UID:10761-1735084800-1735171199@arquireal.im3dia.net
SUMMARY:Navidad
DESCRIPTION:Día festivo
URL:https://arquireal.im3dia.net/actividades/navidad-18/
LOCATION:Ciudad Real
CATEGORIES:Festivos en España
END:VEVENT
BEGIN:VEVENT
DTSTART;VALUE=DATE:20241224
DTEND;VALUE=DATE:20241225
DTSTAMP:20260423T092604
CREATED:20250212T091335Z
LAST-MODIFIED:20250212T091335Z
UID:10872-1734998400-1735084799@arquireal.im3dia.net
SUMMARY:Nochebuena
DESCRIPTION:
URL:https://arquireal.im3dia.net/actividades/nochebuena-19/
LOCATION:Ciudad Real
CATEGORIES:Festivos en España
END:VEVENT
BEGIN:VEVENT
DTSTART;TZID=Europe/Helsinki:20241220T113000
DTEND;TZID=Europe/Helsinki:20241220T130000
DTSTAMP:20260423T092604
CREATED:20251111T110440Z
LAST-MODIFIED:20251111T110557Z
UID:12835-1734694200-1734699600@arquireal.im3dia.net
SUMMARY:ASAMBLEA GENERAL ORDINARIA
DESCRIPTION:Asamblea General Ordinaria de la Demarcación\, con presentación del balance de cuentas\, previsiones de ingresos y gastos\, y programación prevista para actividades culturales del año entrante.
URL:https://arquireal.im3dia.net/actividades/asamblea-general-ordinaria/
LOCATION:Salón de actos. Sede de la Demarcación\, Salón de actos. Sede de la Demarcación. Calle Carlos López Bustos\, 3. Ciudad Real.\, Ciudad Real\, Spain
CATEGORIES:Otras Actividades
ATTACH;FMTTYPE=image/jpeg:https://arquireal.im3dia.net/wp-content/uploads/2025/11/Asamblea-General-Ordinaria.jpg
END:VEVENT
BEGIN:VEVENT
DTSTART;TZID=Europe/Helsinki:20241212T183000
DTEND;TZID=Europe/Helsinki:20241212T193000
DTSTAMP:20260423T092604
CREATED:20251111T105126Z
LAST-MODIFIED:20251111T105702Z
UID:12831-1734028200-1734031800@arquireal.im3dia.net
SUMMARY:ENTREGA DE PREMIOS CONCURSOS FOTOGRAFÍA
DESCRIPTION:La entrega del Concurso de Fotografía anual contó con la presencia de la Decana del COACM\, Elena Guijarro Pérez.
URL:https://arquireal.im3dia.net/actividades/entrega-de-premios-concursos-fotografia/
LOCATION:Salón de actos. Sede de la Demarcación\, Salón de actos. Sede de la Demarcación. Calle Carlos López Bustos\, 3. Ciudad Real.\, Ciudad Real\, Spain
CATEGORIES:Otras Actividades
ATTACH;FMTTYPE=image/png:https://arquireal.im3dia.net/wp-content/uploads/2025/11/Premios-Concurso-Fotografia.png
END:VEVENT
BEGIN:VEVENT
DTSTART;VALUE=DATE:20241208
DTEND;VALUE=DATE:20241209
DTSTAMP:20260423T092604
CREATED:20250212T090757Z
LAST-MODIFIED:20250212T090757Z
UID:10738-1733616000-1733702399@arquireal.im3dia.net
SUMMARY:La Inmaculada Concepción
DESCRIPTION:
URL:https://arquireal.im3dia.net/actividades/la-inmaculada-concepcion-26/
LOCATION:Ciudad Real
CATEGORIES:Festivos en España
END:VEVENT
BEGIN:VEVENT
DTSTART;VALUE=DATE:20241206
DTEND;VALUE=DATE:20241207
DTSTAMP:20260423T092604
CREATED:20250212T091335Z
LAST-MODIFIED:20250212T091335Z
UID:10871-1733443200-1733529599@arquireal.im3dia.net
SUMMARY:Día de la Constitución Española
DESCRIPTION:Día festivo
URL:https://arquireal.im3dia.net/actividades/dia-de-la-constitucion-espanola-28/
LOCATION:Ciudad Real
CATEGORIES:Festivos en España
END:VEVENT
BEGIN:VEVENT
DTSTART;TZID=Europe/Helsinki:20241108T063000
DTEND;TZID=Europe/Helsinki:20241108T193000
DTSTAMP:20260423T092604
CREATED:20251111T104805Z
LAST-MODIFIED:20251111T104805Z
UID:12828-1731047400-1731094200@arquireal.im3dia.net
SUMMARY:CONFERENCIA “LAS CIUDADES Y SUS TESIS”\, LAS CUEVAS DE TOMELLOSO
DESCRIPTION:Tuvimos el privilegio de ser la primera de las demarcaciones del COACM en conocer el trabajo de los profesores de la Escuela de Arquitectura de Toledo José Antonio Aguado Benito (arquitecto) y Juan Alonso Aperte (geólogo) sobre la consolidación de cuevas en Tomelloso.
URL:https://arquireal.im3dia.net/actividades/conferencia-las-ciudades-y-sus-tesis-las-cuevas-de-tomelloso/
LOCATION:Sede de la Demarcación de Ciudad Real del COACM\, C. Carlos López Bustos\, 3\, Ciudad Real\, Ciudad Real\, 13003\, Spain
CATEGORIES:Otras Actividades
ATTACH;FMTTYPE=image/png:https://arquireal.im3dia.net/wp-content/uploads/2025/11/Las-ciudades-y-sus-tesis.png
END:VEVENT
BEGIN:VEVENT
DTSTART;TZID=Europe/Helsinki:20241102T000000
DTEND;TZID=Europe/Helsinki:20241102T130000
DTSTAMP:20260423T092604
CREATED:20241102T130459Z
LAST-MODIFIED:20250428T073241Z
UID:3657-1730505600-1730552400@arquireal.im3dia.net
SUMMARY:INAUGURACIÓN DE LA EXPOSICIÓN DE MIGUEL FISAC Y PRESENTACION DEL IV CONCURSO DE FOTOGRAFÍA Y NUEVO CONCURSO FOTOGRAFÍA EN INSTAGRAM
DESCRIPTION:Con motivo de la semana de la arquitectura\, la demarcación de Ciudad Real presenta las distintas actividades que organiza  durante el mes de octubre. \nEntre ellas\, la inauguración de la exposición  de MIGUEL FISAC. CULTURA\, EDUCACIÓN\, RESTAURACIÓN\, \n  \nEn el mismo acto\, se presentarán el IV CONCURSO DE FOTOGRAFÍA  y  el nuevo concurso I CONCURSO FOTOGRAFÍA INSTAGRAM.
URL:https://arquireal.im3dia.net/actividades/inauguracion-de-la-exposicion-de-miguel-fisac-y-presentacion-del-iv-concurso-de-fotografia-y-nuevo-concurso-fotografia-en-instagram/
LOCATION:Sede de la Demarcación de Ciudad Real del COACM\, C. Carlos López Bustos\, 3\, Ciudad Real\, Ciudad Real\, 13003\, Spain
CATEGORIES:Otras Actividades
ATTACH;FMTTYPE=image/jpeg:https://arquireal.im3dia.net/wp-content/uploads/2024/11/inauguracion-de-la-exposicion-de-miguel-fisac-y-iv-concurso-de-fotografia.jpg
END:VEVENT
BEGIN:VEVENT
DTSTART;VALUE=DATE:20241101
DTEND;VALUE=DATE:20241102
DTSTAMP:20260423T092604
CREATED:20250212T085243Z
LAST-MODIFIED:20250212T085243Z
UID:10634-1730419200-1730505599@arquireal.im3dia.net
SUMMARY:Día de Todos los Santos
DESCRIPTION:Día festivo
URL:https://arquireal.im3dia.net/actividades/dia-de-todos-los-santos-16/
LOCATION:Ciudad Real
CATEGORIES:Festivos en España
END:VEVENT
BEGIN:VEVENT
DTSTART;VALUE=DATE:20241027
DTEND;VALUE=DATE:20241028
DTSTAMP:20260423T092604
CREATED:20250212T085710Z
LAST-MODIFIED:20250212T085710Z
UID:10682-1729987200-1730073599@arquireal.im3dia.net
SUMMARY:Cambio de horario de invierno
DESCRIPTION:
URL:https://arquireal.im3dia.net/actividades/cambio-de-horario-de-invierno-14/
LOCATION:Ciudad Real
CATEGORIES:Festivos en España
END:VEVENT
BEGIN:VEVENT
DTSTART;TZID=Europe/Helsinki:20241025T123000
DTEND;TZID=Europe/Helsinki:20241025T140000
DTSTAMP:20260423T092604
CREATED:20241025T130902Z
LAST-MODIFIED:20250428T073258Z
UID:7038-1729859400-1729864800@arquireal.im3dia.net
SUMMARY:COLOQUIO “ARQUITECTURA A LA LUZ DE LA PALABRA”
DESCRIPTION:La demarcación de Ciudad Real del COACM organiza un fascinante coloquio titulado “Arquitectura a la luz de la palabra”\, en el que  dos arquitectos de reconocido prestigio\, D. José Luis León y D. Moisés Royo\, compartirán su manera particular de entender la arquitectura. \nEste encuentro será una oportunidad para reflexionar sobre aspectos esenciales del diseño\, la estética y la funcionalidad en la arquitectura.
URL:https://arquireal.im3dia.net/actividades/coloquio-arquitectura-a-la-luz-de-la-palabra/
LOCATION:Sede de la Demarcación de Ciudad Real del COACM\, C. Carlos López Bustos\, 3\, Ciudad Real\, Ciudad Real\, 13003\, Spain
CATEGORIES:Otras Actividades
ATTACH;FMTTYPE=image/jpeg:https://arquireal.im3dia.net/wp-content/uploads/2024/11/1.jpg
END:VEVENT
BEGIN:VEVENT
DTSTART;TZID=Europe/Helsinki:20241023T183000
DTEND;TZID=Europe/Helsinki:20241023T193000
DTSTAMP:20260423T092604
CREATED:20251111T104253Z
LAST-MODIFIED:20251111T104325Z
UID:12824-1729708200-1729711800@arquireal.im3dia.net
SUMMARY:CONFERENCIA NUESTRO PASADO EN MAPAS
DESCRIPTION:Presentación del libro NUESTRO PASADO EN MAPAS\, de Alejandro Moyano Gómez\, prologado por Diego Peris y publicado por Biblioteca de Autores Manchegos\, de la Diputación de Ciudad Real. Un compendio de la cartografía provincial\, desde el siglo XVI hasta el XXI.
URL:https://arquireal.im3dia.net/actividades/conferencia-nuestro-pasado-en-mapas/
LOCATION:Salón de actos de la Residencia Universitaria Santo Tomás de Villanueva\, Salón de actos de la Residencia Universitaria Santo Tomás de Villanueva. Plaza San Francisco\, 1. Ciudad Real.\, Ciudad Real\, Spain
CATEGORIES:Otras Actividades
ATTACH;FMTTYPE=image/jpeg:https://arquireal.im3dia.net/wp-content/uploads/2025/11/Mapas.jpg
END:VEVENT
BEGIN:VEVENT
DTSTART;TZID=Europe/Helsinki:20241023T110000
DTEND;TZID=Europe/Helsinki:20241023T113000
DTSTAMP:20260423T092604
CREATED:20251111T103644Z
LAST-MODIFIED:20251111T103644Z
UID:12820-1729681200-1729683000@arquireal.im3dia.net
SUMMARY:COLOCACIÓN PLACA DOCOMOMO VILLALBA DE CALATRAVA
DESCRIPTION:Con motivo de la recolocación de un duplicado de una placa deteriorada DOCOMOMO anterior\, el Colegio de Arquitectos de Ciudad Real quiso reconocer la importancia arquitectónica y urbanística que los nueve Pueblos de Colonización han tenido en nuestra provincia. Contamos con la presencia de José Antonio Herce Inés\, representante DOCOMOMO de Castilla-La Mancha.
URL:https://arquireal.im3dia.net/actividades/colocacion-placa-docomomo-villalba-de-calatrava/
LOCATION:Iglesia Nuestra Señora de Consolación\, Iglesia Nuestra Señora de Consolación. Plaza Sagrada Familia\, 2. Villalba de Calatrava.\, Villalba de Calatrava\, Spain
CATEGORIES:Otras Actividades
ATTACH;FMTTYPE=image/jpeg:https://arquireal.im3dia.net/wp-content/uploads/2025/11/ColocacionPlaca-e1762857395168.jpg
END:VEVENT
BEGIN:VEVENT
DTSTART;TZID=Europe/Helsinki:20241017T183000
DTEND;TZID=Europe/Helsinki:20241017T203000
DTSTAMP:20260423T092604
CREATED:20241017T130519Z
LAST-MODIFIED:20250428T073314Z
UID:7036-1729189800-1729197000@arquireal.im3dia.net
SUMMARY:VISITA GUIADA AL PALACIO DE LA DIPUTACIÓN.
DESCRIPTION:La Demarcación de Ciudad Real del COACM organiza visita guiada para sus colegiados al Palacio de la Diputación. \nNecesaria inscripción previa
URL:https://arquireal.im3dia.net/actividades/visita-guiada-al-palacio-de-la-diputacion/
LOCATION:Palacio de la Diputación\, Palacio de la Diputación. Calle Toledo\, 17. Plaza de la Diputación. Ciudad Real.\, Ciudad Real\, Spain
CATEGORIES:Otras Actividades
ATTACH;FMTTYPE=image/jpeg:https://arquireal.im3dia.net/wp-content/uploads/2024/11/Imagen-04-palacio-de-la-diputacin.jpg
END:VEVENT
BEGIN:VEVENT
DTSTART;TZID=Europe/Helsinki:20241017T100000
DTEND;TZID=Europe/Helsinki:20241017T110000
DTSTAMP:20260423T092604
CREATED:20251111T102700Z
LAST-MODIFIED:20251111T103028Z
UID:12817-1729159200-1729162800@arquireal.im3dia.net
SUMMARY:VISITA AL PALACIO DE LA DIPUTACIÓN
DESCRIPTION:Con motivo de cumplirse 130 años desde la finalización de las obras del Palacio de la Diputación de Ciudad Real (1893-2023)\, y de la mano de la compañera arquitecta Rosa Ramos\, un grupo de colegiados tuvimos el privilegio de conocer dependencias del edificio que habitualmente quedan fuera del circuito al que tiene acceso el público en general. Las vistas desde las cubiertas\, maravillosas. La exposición\, bien documentada. El libro\, una pequeña joya.
URL:https://arquireal.im3dia.net/actividades/visita-al-palacio-de-la-diputacion/
LOCATION:Palacio de la Diputación\, Palacio de la Diputación. Calle Toledo\, 17. Plaza de la Diputación. Ciudad Real.\, Ciudad Real\, Spain
CATEGORIES:Otras Actividades
ATTACH;FMTTYPE=image/jpeg:https://arquireal.im3dia.net/wp-content/uploads/2025/11/Visita-Palacio-e1762856967779.jpg
END:VEVENT
BEGIN:VEVENT
DTSTART;TZID=Europe/Helsinki:20241012T183000
DTEND;TZID=Europe/Helsinki:20241012T193000
DTSTAMP:20260423T092604
CREATED:20251111T101058Z
LAST-MODIFIED:20251111T101058Z
UID:12810-1728757800-1728761400@arquireal.im3dia.net
SUMMARY:INAUGURACIÓN EXPOSICIÓN LA OBRA DE FISAC DE DIEGO PERIS Y JAVIER NAVARRO
DESCRIPTION:Dentro de las actividades programadas para octubre\, mes de la Arquitectura\, tuvo lugar una exposición que abordó diferentes edificios docentes y culturales\, así como las intervenciones de rehabilitación que realizó Fisac en la provincia de Ciudad Real.
URL:https://arquireal.im3dia.net/actividades/inauguracion-exposicion-la-obra-de-fisac-de-diego-peris-y-javier-navarro/
LOCATION:Sede de la Demarcación\, Sede de la Demarcación. Calle Carlos López Bustos\, 3. Ciudad Real\, Ciudad Real\, Spain
CATEGORIES:Otras Actividades
ATTACH;FMTTYPE=image/jpeg:https://arquireal.im3dia.net/wp-content/uploads/2025/11/Exposicion-FISAC-Diego-Peris-y-Javier-Navarro-e1762855959778.jpg
END:VEVENT
BEGIN:VEVENT
DTSTART;VALUE=DATE:20241012
DTEND;VALUE=DATE:20241013
DTSTAMP:20260423T092604
CREATED:20250212T091021Z
LAST-MODIFIED:20250212T091021Z
UID:10779-1728691200-1728777599@arquireal.im3dia.net
SUMMARY:Día de la Hispanidad
DESCRIPTION:Día festivo
URL:https://arquireal.im3dia.net/actividades/dia-de-la-hispanidad-27/
LOCATION:Ciudad Real
CATEGORIES:Festivos en España
END:VEVENT
BEGIN:VEVENT
DTSTART;TZID=Europe/Helsinki:20241011T090000
DTEND;TZID=Europe/Helsinki:20241011T170000
DTSTAMP:20260423T092604
CREATED:20251111T101720Z
LAST-MODIFIED:20251111T101720Z
UID:12813-1728637200-1728666000@arquireal.im3dia.net
SUMMARY:VISITA A  LA OBRA DE FISAC EN MADRID
DESCRIPTION:En octubre se realizó un VIAJE ARQUITECTÓNICO para conocer de cerca las vigas hueso del edificio del Centro de Estudios Hidrográficos\, junto al río Manzanares\, en Madrid\, así como la planta hiperbólica del convento teologado de los Padres Dominicos San Pedro Mártir\, en Alcobendas\, ambas obras de Miguel Fisac.
URL:https://arquireal.im3dia.net/actividades/visita-a-la-obra-de-fisac-en-madrid/
LOCATION:Centro de Estudios Hidrográficos del CSIC\, Centro de Estudios Hidrográficos del CSIC. Madrid\, Madrid\, Spain
CATEGORIES:Otras Actividades
ATTACH;FMTTYPE=image/png:https://arquireal.im3dia.net/wp-content/uploads/2025/11/ObraFISAC-Madrid.png
END:VEVENT
BEGIN:VEVENT
DTSTART;TZID=Europe/Helsinki:20241003T183000
DTEND;TZID=Europe/Helsinki:20241003T213000
DTSTAMP:20260423T092604
CREATED:20241003T114649Z
LAST-MODIFIED:20250428T073336Z
UID:6970-1727980200-1727991000@arquireal.im3dia.net
SUMMARY:PRESENTACIÓN DEL NUEVO LIBRO DE LA FUNDACIÓN FISAC.
DESCRIPTION:La FUNDACIÓN MIGUEL FISAC presenta este año el libro FISAC. CULTURA\, EDUCACIÓN\, RESTAURACIÓN\, donde se recogen todos los proyectos en dicho ámbito de un arquitecto peculiar y característico en sí mismo\, y con un reconocimiento que excede\, con mucho\, el ámbito nacional para ser considerado uno de los grandes del siglo XX a nivel internacional.
URL:https://arquireal.im3dia.net/actividades/presentacion-del-nuevo-libro-de-la-fundacion-fisac/
LOCATION:Avenida del Ferrocarril s/n\, Avenida del Ferrocarril s/n\, Ciudad Real\, Ciudad Real\, 13004\, Spain
CATEGORIES:Otras Actividades
ATTACH;FMTTYPE=image/jpeg:https://arquireal.im3dia.net/wp-content/uploads/2024/11/Imagen2.jpg
END:VEVENT
END:VCALENDAR