BEGIN:VCALENDAR
VERSION:2.0
PRODID:-//Arquireal - ECPv6.15.13.1//NONSGML v1.0//EN
CALSCALE:GREGORIAN
METHOD:PUBLISH
X-ORIGINAL-URL:https://arquireal.im3dia.net
X-WR-CALDESC:Eventos para Arquireal
REFRESH-INTERVAL;VALUE=DURATION:PT1H
X-Robots-Tag:noindex
X-PUBLISHED-TTL:PT1H
BEGIN:VTIMEZONE
TZID:Europe/Helsinki
BEGIN:DAYLIGHT
TZOFFSETFROM:+0200
TZOFFSETTO:+0300
TZNAME:EEST
DTSTART:20270328T010000
END:DAYLIGHT
BEGIN:STANDARD
TZOFFSETFROM:+0300
TZOFFSETTO:+0200
TZNAME:EET
DTSTART:20271031T010000
END:STANDARD
BEGIN:DAYLIGHT
TZOFFSETFROM:+0200
TZOFFSETTO:+0300
TZNAME:EEST
DTSTART:20280326T010000
END:DAYLIGHT
BEGIN:STANDARD
TZOFFSETFROM:+0300
TZOFFSETTO:+0200
TZNAME:EET
DTSTART:20281029T010000
END:STANDARD
BEGIN:DAYLIGHT
TZOFFSETFROM:+0200
TZOFFSETTO:+0300
TZNAME:EEST
DTSTART:20290325T010000
END:DAYLIGHT
BEGIN:STANDARD
TZOFFSETFROM:+0300
TZOFFSETTO:+0200
TZNAME:EET
DTSTART:20291028T010000
END:STANDARD
BEGIN:DAYLIGHT
TZOFFSETFROM:+0200
TZOFFSETTO:+0300
TZNAME:EEST
DTSTART:20300331T010000
END:DAYLIGHT
BEGIN:STANDARD
TZOFFSETFROM:+0300
TZOFFSETTO:+0200
TZNAME:EET
DTSTART:20301027T010000
END:STANDARD
END:VTIMEZONE
BEGIN:VEVENT
DTSTART;VALUE=DATE:20280229
DTEND;VALUE=DATE:20280301
DTSTAMP:20260423T052049
CREATED:20250212T090935Z
LAST-MODIFIED:20250212T090935Z
UID:10766-1835395200-1835481599@arquireal.im3dia.net
SUMMARY:Martes de Carnaval
DESCRIPTION:
URL:https://arquireal.im3dia.net/actividades/martes-de-carnaval-21/
LOCATION:Ciudad Real
CATEGORIES:Festivos en España
END:VEVENT
BEGIN:VEVENT
DTSTART;VALUE=DATE:20280301
DTEND;VALUE=DATE:20280302
DTSTAMP:20260423T052049
CREATED:20250212T091030Z
LAST-MODIFIED:20250212T091030Z
UID:10786-1835481600-1835567999@arquireal.im3dia.net
SUMMARY:Miércoles de Ceniza
DESCRIPTION:
URL:https://arquireal.im3dia.net/actividades/miercoles-de-ceniza-23/
LOCATION:Ciudad Real
CATEGORIES:Festivos en España
END:VEVENT
BEGIN:VEVENT
DTSTART;VALUE=DATE:20280319
DTEND;VALUE=DATE:20280320
DTSTAMP:20260423T052049
CREATED:20250212T091156Z
LAST-MODIFIED:20250212T091156Z
UID:10808-1837036800-1837123199@arquireal.im3dia.net
SUMMARY:Día del Padre
DESCRIPTION:
URL:https://arquireal.im3dia.net/actividades/dia-del-padre-22/
LOCATION:Ciudad Real
CATEGORIES:Festivos en España
END:VEVENT
BEGIN:VEVENT
DTSTART;VALUE=DATE:20280319
DTEND;VALUE=DATE:20280320
DTSTAMP:20260423T052049
CREATED:20250212T091432Z
LAST-MODIFIED:20250212T091432Z
UID:10920-1837036800-1837123199@arquireal.im3dia.net
SUMMARY:San José
DESCRIPTION:
URL:https://arquireal.im3dia.net/actividades/san-jose-19/
LOCATION:Ciudad Real
CATEGORIES:Festivos en España
END:VEVENT
BEGIN:VEVENT
DTSTART;VALUE=DATE:20280326
DTEND;VALUE=DATE:20280327
DTSTAMP:20260423T052049
CREATED:20250212T085214Z
LAST-MODIFIED:20250212T085214Z
UID:10624-1837641600-1837727999@arquireal.im3dia.net
SUMMARY:Cambio de Horario de Verano
DESCRIPTION:
URL:https://arquireal.im3dia.net/actividades/cambio-de-horario-de-verano-13/
LOCATION:Ciudad Real
CATEGORIES:Festivos en España
END:VEVENT
BEGIN:VEVENT
DTSTART;VALUE=DATE:20280409
DTEND;VALUE=DATE:20280410
DTSTAMP:20260423T052049
CREATED:20250212T091314Z
LAST-MODIFIED:20250212T091314Z
UID:10855-1838851200-1838937599@arquireal.im3dia.net
SUMMARY:Domingo de Ramos
DESCRIPTION:
URL:https://arquireal.im3dia.net/actividades/domingo-de-ramos-26/
LOCATION:Ciudad Real
CATEGORIES:Festivos en España
END:VEVENT
BEGIN:VEVENT
DTSTART;VALUE=DATE:20280413
DTEND;VALUE=DATE:20280414
DTSTAMP:20260423T052049
CREATED:20250212T091432Z
LAST-MODIFIED:20250212T091432Z
UID:10921-1839196800-1839283199@arquireal.im3dia.net
SUMMARY:Jueves Santo
DESCRIPTION:
URL:https://arquireal.im3dia.net/actividades/jueves-santo-24/
LOCATION:Ciudad Real
CATEGORIES:Festivos en España
END:VEVENT
BEGIN:VEVENT
DTSTART;VALUE=DATE:20280414
DTEND;VALUE=DATE:20280415
DTSTAMP:20260423T052049
CREATED:20250212T090812Z
LAST-MODIFIED:20250212T090812Z
UID:10743-1839283200-1839369599@arquireal.im3dia.net
SUMMARY:Viernes Santo
DESCRIPTION:Día festivo
URL:https://arquireal.im3dia.net/actividades/viernes-santo-21/
LOCATION:Ciudad Real
CATEGORIES:Festivos en España
END:VEVENT
BEGIN:VEVENT
DTSTART;VALUE=DATE:20280415
DTEND;VALUE=DATE:20280416
DTSTAMP:20260423T052049
CREATED:20250212T085617Z
LAST-MODIFIED:20250212T085617Z
UID:10669-1839369600-1839455999@arquireal.im3dia.net
SUMMARY:Sábado Santo
DESCRIPTION:
URL:https://arquireal.im3dia.net/actividades/sabado-santo-16/
LOCATION:Ciudad Real
CATEGORIES:Festivos en España
END:VEVENT
BEGIN:VEVENT
DTSTART;VALUE=DATE:20280416
DTEND;VALUE=DATE:20280417
DTSTAMP:20260423T052049
CREATED:20250212T091156Z
LAST-MODIFIED:20250212T091156Z
UID:10809-1839456000-1839542399@arquireal.im3dia.net
SUMMARY:Domingo de Pascua
DESCRIPTION:
URL:https://arquireal.im3dia.net/actividades/domingo-de-pascua-24/
LOCATION:Ciudad Real
CATEGORIES:Festivos en España
END:VEVENT
BEGIN:VEVENT
DTSTART;VALUE=DATE:20280417
DTEND;VALUE=DATE:20280418
DTSTAMP:20260423T052049
CREATED:20250212T091436Z
LAST-MODIFIED:20250212T091436Z
UID:10922-1839542400-1839628799@arquireal.im3dia.net
SUMMARY:Lunes de Pascua
DESCRIPTION:
URL:https://arquireal.im3dia.net/actividades/lunes-de-pascua-25/
LOCATION:Ciudad Real
CATEGORIES:Festivos en España
END:VEVENT
BEGIN:VEVENT
DTSTART;VALUE=DATE:20280423
DTEND;VALUE=DATE:20280424
DTSTAMP:20260423T052049
CREATED:20250212T085328Z
LAST-MODIFIED:20250212T085328Z
UID:10647-1840060800-1840147199@arquireal.im3dia.net
SUMMARY:Día de San Jorge
DESCRIPTION:
URL:https://arquireal.im3dia.net/actividades/dia-de-san-jorge-13/
LOCATION:Ciudad Real
CATEGORIES:Festivos en España
END:VEVENT
BEGIN:VEVENT
DTSTART;VALUE=DATE:20280501
DTEND;VALUE=DATE:20280502
DTSTAMP:20260423T052049
CREATED:20250212T085328Z
LAST-MODIFIED:20250212T085328Z
UID:10648-1840752000-1840838399@arquireal.im3dia.net
SUMMARY:Día del trabajador
DESCRIPTION:Día festivo
URL:https://arquireal.im3dia.net/actividades/dia-del-trabajador-22/
LOCATION:Ciudad Real
CATEGORIES:Festivos en España
END:VEVENT
BEGIN:VEVENT
DTSTART;VALUE=DATE:20280507
DTEND;VALUE=DATE:20280508
DTSTAMP:20260423T052049
CREATED:20250212T085328Z
LAST-MODIFIED:20250212T085328Z
UID:10649-1841270400-1841356799@arquireal.im3dia.net
SUMMARY:El Dia de la Madre
DESCRIPTION:
URL:https://arquireal.im3dia.net/actividades/el-dia-de-la-madre-23/
LOCATION:Ciudad Real
CATEGORIES:Festivos en España
END:VEVENT
BEGIN:VEVENT
DTSTART;VALUE=DATE:20280604
DTEND;VALUE=DATE:20280605
DTSTAMP:20260423T052049
CREATED:20250212T090812Z
LAST-MODIFIED:20250212T090812Z
UID:10744-1843689600-1843775999@arquireal.im3dia.net
SUMMARY:Domingo de Pentecostés
DESCRIPTION:
URL:https://arquireal.im3dia.net/actividades/domingo-de-pentecostes-19/
LOCATION:Ciudad Real
CATEGORIES:Festivos en España
END:VEVENT
BEGIN:VEVENT
DTSTART;VALUE=DATE:20280605
DTEND;VALUE=DATE:20280606
DTSTAMP:20260423T052049
CREATED:20250212T085631Z
LAST-MODIFIED:20250212T085631Z
UID:10670-1843776000-1843862399@arquireal.im3dia.net
SUMMARY:Lunes de Pentecostés
DESCRIPTION:
URL:https://arquireal.im3dia.net/actividades/lunes-de-pentecostes-20/
LOCATION:Ciudad Real
CATEGORIES:Festivos en España
END:VEVENT
BEGIN:VEVENT
DTSTART;VALUE=DATE:20280615
DTEND;VALUE=DATE:20280616
DTSTAMP:20260423T052049
CREATED:20250212T091436Z
LAST-MODIFIED:20250212T091436Z
UID:10923-1844640000-1844726399@arquireal.im3dia.net
SUMMARY:Corpus Christi
DESCRIPTION:
URL:https://arquireal.im3dia.net/actividades/corpus-christi-21/
LOCATION:Ciudad Real
CATEGORIES:Festivos en España
END:VEVENT
BEGIN:VEVENT
DTSTART;VALUE=DATE:20280624
DTEND;VALUE=DATE:20280625
DTSTAMP:20260423T052049
CREATED:20250212T091436Z
LAST-MODIFIED:20250212T091436Z
UID:10924-1845417600-1845503999@arquireal.im3dia.net
SUMMARY:San Juan
DESCRIPTION:
URL:https://arquireal.im3dia.net/actividades/san-juan-17/
LOCATION:Ciudad Real
CATEGORIES:Festivos en España
END:VEVENT
BEGIN:VEVENT
DTSTART;VALUE=DATE:20280725
DTEND;VALUE=DATE:20280726
DTSTAMP:20260423T052049
CREATED:20250212T091503Z
LAST-MODIFIED:20250212T091503Z
UID:10941-1848096000-1848182399@arquireal.im3dia.net
SUMMARY:Santiago Apóstol
DESCRIPTION:
URL:https://arquireal.im3dia.net/actividades/santiago-apostol-21/
LOCATION:Ciudad Real
CATEGORIES:Festivos en España
END:VEVENT
BEGIN:VEVENT
DTSTART;VALUE=DATE:20280815
DTEND;VALUE=DATE:20280816
DTSTAMP:20260423T052049
CREATED:20250212T091157Z
LAST-MODIFIED:20250212T091157Z
UID:10810-1849910400-1849996799@arquireal.im3dia.net
SUMMARY:La Asunción de la Virgen
DESCRIPTION:Día festivo
URL:https://arquireal.im3dia.net/actividades/la-asuncion-de-la-virgen-16/
LOCATION:Ciudad Real
CATEGORIES:Festivos en España
END:VEVENT
BEGIN:VEVENT
DTSTART;VALUE=DATE:20281012
DTEND;VALUE=DATE:20281013
DTSTAMP:20260423T052049
CREATED:20250212T090214Z
LAST-MODIFIED:20250212T090214Z
UID:10708-1854921600-1855007999@arquireal.im3dia.net
SUMMARY:Día de la Hispanidad
DESCRIPTION:Día festivo
URL:https://arquireal.im3dia.net/actividades/dia-de-la-hispanidad-24/
LOCATION:Ciudad Real
CATEGORIES:Festivos en España
END:VEVENT
BEGIN:VEVENT
DTSTART;VALUE=DATE:20281029
DTEND;VALUE=DATE:20281030
DTSTAMP:20260423T052049
CREATED:20250212T085328Z
LAST-MODIFIED:20250212T085328Z
UID:10650-1856390400-1856476799@arquireal.im3dia.net
SUMMARY:Cambio de horario de invierno
DESCRIPTION:
URL:https://arquireal.im3dia.net/actividades/cambio-de-horario-de-invierno-12/
LOCATION:Ciudad Real
CATEGORIES:Festivos en España
END:VEVENT
BEGIN:VEVENT
DTSTART;VALUE=DATE:20281101
DTEND;VALUE=DATE:20281102
DTSTAMP:20260423T052049
CREATED:20250212T091314Z
LAST-MODIFIED:20250212T091314Z
UID:10856-1856649600-1856735999@arquireal.im3dia.net
SUMMARY:Día de Todos los Santos
DESCRIPTION:Día festivo
URL:https://arquireal.im3dia.net/actividades/dia-de-todos-los-santos-22/
LOCATION:Ciudad Real
CATEGORIES:Festivos en España
END:VEVENT
BEGIN:VEVENT
DTSTART;VALUE=DATE:20281206
DTEND;VALUE=DATE:20281207
DTSTAMP:20260423T052049
CREATED:20250212T091314Z
LAST-MODIFIED:20250212T091314Z
UID:10857-1859673600-1859759999@arquireal.im3dia.net
SUMMARY:Día de la Constitución Española
DESCRIPTION:Día festivo
URL:https://arquireal.im3dia.net/actividades/dia-de-la-constitucion-espanola-26/
LOCATION:Ciudad Real
CATEGORIES:Festivos en España
END:VEVENT
BEGIN:VEVENT
DTSTART;VALUE=DATE:20281208
DTEND;VALUE=DATE:20281209
DTSTAMP:20260423T052049
CREATED:20250212T091232Z
LAST-MODIFIED:20250212T091232Z
UID:10833-1859846400-1859932799@arquireal.im3dia.net
SUMMARY:La Inmaculada Concepción
DESCRIPTION:Día festivo
URL:https://arquireal.im3dia.net/actividades/la-inmaculada-concepcion-29/
LOCATION:Ciudad Real
CATEGORIES:Festivos en España
END:VEVENT
BEGIN:VEVENT
DTSTART;VALUE=DATE:20281224
DTEND;VALUE=DATE:20281225
DTSTAMP:20260423T052049
CREATED:20250212T091346Z
LAST-MODIFIED:20250212T091346Z
UID:10877-1861228800-1861315199@arquireal.im3dia.net
SUMMARY:Nochebuena
DESCRIPTION:
URL:https://arquireal.im3dia.net/actividades/nochebuena-20/
LOCATION:Ciudad Real
CATEGORIES:Festivos en España
END:VEVENT
BEGIN:VEVENT
DTSTART;VALUE=DATE:20281225
DTEND;VALUE=DATE:20281226
DTSTAMP:20260423T052049
CREATED:20250212T085631Z
LAST-MODIFIED:20250212T085631Z
UID:10671-1861315200-1861401599@arquireal.im3dia.net
SUMMARY:Navidad
DESCRIPTION:Día festivo
URL:https://arquireal.im3dia.net/actividades/navidad-13/
LOCATION:Ciudad Real
CATEGORIES:Festivos en España
END:VEVENT
BEGIN:VEVENT
DTSTART;VALUE=DATE:20281231
DTEND;VALUE=DATE:20290101
DTSTAMP:20260423T052049
CREATED:20250212T090214Z
LAST-MODIFIED:20250212T090214Z
UID:10709-1861833600-1861919999@arquireal.im3dia.net
SUMMARY:Nochevieja
DESCRIPTION:
URL:https://arquireal.im3dia.net/actividades/nochevieja-18/
LOCATION:Ciudad Real
CATEGORIES:Festivos en España
END:VEVENT
BEGIN:VEVENT
DTSTART;VALUE=DATE:20281231
DTEND;VALUE=DATE:20290101
DTSTAMP:20260423T052049
CREATED:20250212T091030Z
LAST-MODIFIED:20250212T091030Z
UID:10787-1861833600-1861919999@arquireal.im3dia.net
SUMMARY:Día de la Sagrada Familia
DESCRIPTION:
URL:https://arquireal.im3dia.net/actividades/dia-de-la-sagrada-familia-16/
LOCATION:Ciudad Real
CATEGORIES:Festivos en España
END:VEVENT
BEGIN:VEVENT
DTSTART;VALUE=DATE:20290101
DTEND;VALUE=DATE:20290102
DTSTAMP:20260423T052049
CREATED:20250212T075537Z
LAST-MODIFIED:20250212T085343Z
UID:10246-1861920000-1862006399@arquireal.im3dia.net
SUMMARY:Año Nuevo
DESCRIPTION:Día festivo
URL:https://arquireal.im3dia.net/actividades/ano-nuevo-13/
LOCATION:Ciudad Real
CATEGORIES:Festivos en España
END:VEVENT
END:VCALENDAR