BEGIN:VCALENDAR
VERSION:2.0
PRODID:-//Arquireal - ECPv6.15.13.1//NONSGML v1.0//EN
CALSCALE:GREGORIAN
METHOD:PUBLISH
X-WR-CALNAME:Arquireal
X-ORIGINAL-URL:https://arquireal.im3dia.net
X-WR-CALDESC:Eventos para Arquireal
REFRESH-INTERVAL;VALUE=DURATION:PT1H
X-Robots-Tag:noindex
X-PUBLISHED-TTL:PT1H
BEGIN:VTIMEZONE
TZID:Europe/Helsinki
BEGIN:DAYLIGHT
TZOFFSETFROM:+0200
TZOFFSETTO:+0300
TZNAME:EEST
DTSTART:20220327T010000
END:DAYLIGHT
BEGIN:STANDARD
TZOFFSETFROM:+0300
TZOFFSETTO:+0200
TZNAME:EET
DTSTART:20221030T010000
END:STANDARD
BEGIN:DAYLIGHT
TZOFFSETFROM:+0200
TZOFFSETTO:+0300
TZNAME:EEST
DTSTART:20230326T010000
END:DAYLIGHT
BEGIN:STANDARD
TZOFFSETFROM:+0300
TZOFFSETTO:+0200
TZNAME:EET
DTSTART:20231029T010000
END:STANDARD
BEGIN:DAYLIGHT
TZOFFSETFROM:+0200
TZOFFSETTO:+0300
TZNAME:EEST
DTSTART:20240331T010000
END:DAYLIGHT
BEGIN:STANDARD
TZOFFSETFROM:+0300
TZOFFSETTO:+0200
TZNAME:EET
DTSTART:20241027T010000
END:STANDARD
BEGIN:DAYLIGHT
TZOFFSETFROM:+0200
TZOFFSETTO:+0300
TZNAME:EEST
DTSTART:20250330T010000
END:DAYLIGHT
BEGIN:STANDARD
TZOFFSETFROM:+0300
TZOFFSETTO:+0200
TZNAME:EET
DTSTART:20251026T010000
END:STANDARD
END:VTIMEZONE
BEGIN:VEVENT
DTSTART;VALUE=DATE:20240101
DTEND;VALUE=DATE:20240102
DTSTAMP:20260423T130303
CREATED:20250212T075252Z
LAST-MODIFIED:20250212T085158Z
UID:10215-1704067200-1704153599@arquireal.im3dia.net
SUMMARY:Año Nuevo
DESCRIPTION:Día festivo
URL:https://arquireal.im3dia.net/actividades/ano-nuevo-12/
CATEGORIES:Festivos en España
END:VEVENT
BEGIN:VEVENT
DTSTART;VALUE=DATE:20231231
DTEND;VALUE=DATE:20240101
DTSTAMP:20260423T130303
CREATED:20250212T090159Z
LAST-MODIFIED:20250212T090159Z
UID:10701-1703980800-1704067199@arquireal.im3dia.net
SUMMARY:Nochevieja
DESCRIPTION:
URL:https://arquireal.im3dia.net/actividades/nochevieja-16/
CATEGORIES:Festivos en España
END:VEVENT
BEGIN:VEVENT
DTSTART;VALUE=DATE:20231231
DTEND;VALUE=DATE:20240101
DTSTAMP:20260423T130303
CREATED:20250212T090159Z
LAST-MODIFIED:20250212T090159Z
UID:10702-1703980800-1704067199@arquireal.im3dia.net
SUMMARY:Día de la Sagrada Familia
DESCRIPTION:
URL:https://arquireal.im3dia.net/actividades/dia-de-la-sagrada-familia-13/
CATEGORIES:Festivos en España
END:VEVENT
BEGIN:VEVENT
DTSTART;VALUE=DATE:20231225
DTEND;VALUE=DATE:20231226
DTSTAMP:20260423T130303
CREATED:20250212T090144Z
LAST-MODIFIED:20250212T090144Z
UID:10700-1703462400-1703548799@arquireal.im3dia.net
SUMMARY:Navidad
DESCRIPTION:Día festivo
URL:https://arquireal.im3dia.net/actividades/navidad-16/
CATEGORIES:Festivos en España
END:VEVENT
BEGIN:VEVENT
DTSTART;VALUE=DATE:20231224
DTEND;VALUE=DATE:20231225
DTSTAMP:20260423T130303
CREATED:20250212T085709Z
LAST-MODIFIED:20250212T085709Z
UID:10681-1703376000-1703462399@arquireal.im3dia.net
SUMMARY:Nochebuena
DESCRIPTION:
URL:https://arquireal.im3dia.net/actividades/nochebuena-13/
CATEGORIES:Festivos en España
END:VEVENT
BEGIN:VEVENT
DTSTART;VALUE=DATE:20231208
DTEND;VALUE=DATE:20231209
DTSTAMP:20260423T130303
CREATED:20250212T091213Z
LAST-MODIFIED:20250212T091213Z
UID:10820-1701993600-1702079999@arquireal.im3dia.net
SUMMARY:La Inmaculada Concepción
DESCRIPTION:Día festivo
URL:https://arquireal.im3dia.net/actividades/la-inmaculada-concepcion-28/
CATEGORIES:Festivos en España
END:VEVENT
BEGIN:VEVENT
DTSTART;VALUE=DATE:20231206
DTEND;VALUE=DATE:20231207
DTSTAMP:20260423T130303
CREATED:20250212T091335Z
LAST-MODIFIED:20250212T091335Z
UID:10870-1701820800-1701907199@arquireal.im3dia.net
SUMMARY:Día de la Constitución Española
DESCRIPTION:Día festivo
URL:https://arquireal.im3dia.net/actividades/dia-de-la-constitucion-espanola-27/
CATEGORIES:Festivos en España
END:VEVENT
BEGIN:VEVENT
DTSTART;VALUE=DATE:20231101
DTEND;VALUE=DATE:20231102
DTSTAMP:20260423T130303
CREATED:20250212T091016Z
LAST-MODIFIED:20250212T091016Z
UID:10776-1698796800-1698883199@arquireal.im3dia.net
SUMMARY:Día de Todos los Santos
DESCRIPTION:Día festivo
URL:https://arquireal.im3dia.net/actividades/dia-de-todos-los-santos-20/
CATEGORIES:Festivos en España
END:VEVENT
BEGIN:VEVENT
DTSTART;VALUE=DATE:20231029
DTEND;VALUE=DATE:20231030
DTSTAMP:20260423T130303
CREATED:20250212T085558Z
LAST-MODIFIED:20250212T085558Z
UID:10660-1698537600-1698623999@arquireal.im3dia.net
SUMMARY:Cambio de horario de invierno
DESCRIPTION:
URL:https://arquireal.im3dia.net/actividades/cambio-de-horario-de-invierno-13/
CATEGORIES:Festivos en España
END:VEVENT
BEGIN:VEVENT
DTSTART;VALUE=DATE:20231012
DTEND;VALUE=DATE:20231013
DTSTAMP:20260423T130303
CREATED:20250212T085358Z
LAST-MODIFIED:20250212T085358Z
UID:10659-1697068800-1697155199@arquireal.im3dia.net
SUMMARY:Día de la Hispanidad
DESCRIPTION:Día festivo
URL:https://arquireal.im3dia.net/actividades/dia-de-la-hispanidad-23/
CATEGORIES:Festivos en España
END:VEVENT
BEGIN:VEVENT
DTSTART;VALUE=DATE:20230815
DTEND;VALUE=DATE:20230816
DTSTAMP:20260423T130303
CREATED:20250212T085358Z
LAST-MODIFIED:20250212T085358Z
UID:10658-1692057600-1692143999@arquireal.im3dia.net
SUMMARY:La Asunción de la Virgen
DESCRIPTION:Día festivo
URL:https://arquireal.im3dia.net/actividades/la-asuncion-de-la-virgen-13/
CATEGORIES:Festivos en España
END:VEVENT
BEGIN:VEVENT
DTSTART;VALUE=DATE:20230725
DTEND;VALUE=DATE:20230726
DTSTAMP:20260423T130303
CREATED:20250212T091446Z
LAST-MODIFIED:20250212T091446Z
UID:10934-1690243200-1690329599@arquireal.im3dia.net
SUMMARY:Santiago Apóstol
DESCRIPTION:
URL:https://arquireal.im3dia.net/actividades/santiago-apostol-20/
CATEGORIES:Festivos en España
END:VEVENT
BEGIN:VEVENT
DTSTART;VALUE=DATE:20230624
DTEND;VALUE=DATE:20230625
DTSTAMP:20260423T130303
CREATED:20250212T091419Z
LAST-MODIFIED:20250212T091419Z
UID:10903-1687564800-1687651199@arquireal.im3dia.net
SUMMARY:San Juan
DESCRIPTION:
URL:https://arquireal.im3dia.net/actividades/san-juan-15/
CATEGORIES:Festivos en España
END:VEVENT
BEGIN:VEVENT
DTSTART;VALUE=DATE:20230608
DTEND;VALUE=DATE:20230609
DTSTAMP:20260423T130303
CREATED:20250212T091446Z
LAST-MODIFIED:20250212T091446Z
UID:10933-1686182400-1686268799@arquireal.im3dia.net
SUMMARY:Corpus Christi
DESCRIPTION:
URL:https://arquireal.im3dia.net/actividades/corpus-christi-23/
CATEGORIES:Festivos en España
END:VEVENT
BEGIN:VEVENT
DTSTART;VALUE=DATE:20230529
DTEND;VALUE=DATE:20230530
DTSTAMP:20260423T130303
CREATED:20250212T085243Z
LAST-MODIFIED:20250212T085243Z
UID:10631-1685318400-1685404799@arquireal.im3dia.net
SUMMARY:Lunes de Pentecostés
DESCRIPTION:
URL:https://arquireal.im3dia.net/actividades/lunes-de-pentecostes-18/
CATEGORIES:Festivos en España
END:VEVENT
BEGIN:VEVENT
DTSTART;VALUE=DATE:20230528
DTEND;VALUE=DATE:20230529
DTSTAMP:20260423T130303
CREATED:20250212T091335Z
LAST-MODIFIED:20250212T091335Z
UID:10869-1685232000-1685318399@arquireal.im3dia.net
SUMMARY:Domingo de Pentecostés
DESCRIPTION:
URL:https://arquireal.im3dia.net/actividades/domingo-de-pentecostes-25/
CATEGORIES:Festivos en España
END:VEVENT
BEGIN:VEVENT
DTSTART;VALUE=DATE:20230507
DTEND;VALUE=DATE:20230508
DTSTAMP:20260423T130303
CREATED:20250212T091335Z
LAST-MODIFIED:20250212T091335Z
UID:10868-1683417600-1683503999@arquireal.im3dia.net
SUMMARY:El Dia de la Madre
DESCRIPTION:
URL:https://arquireal.im3dia.net/actividades/el-dia-de-la-madre-30/
CATEGORIES:Festivos en España
END:VEVENT
BEGIN:VEVENT
DTSTART;VALUE=DATE:20230501
DTEND;VALUE=DATE:20230502
DTSTAMP:20260423T130303
CREATED:20250212T085158Z
LAST-MODIFIED:20250212T085158Z
UID:10617-1682899200-1682985599@arquireal.im3dia.net
SUMMARY:Día del trabajador
DESCRIPTION:Día festivo
URL:https://arquireal.im3dia.net/actividades/dia-del-trabajador-20/
CATEGORIES:Festivos en España
END:VEVENT
BEGIN:VEVENT
DTSTART;VALUE=DATE:20230423
DTEND;VALUE=DATE:20230424
DTSTAMP:20260423T130303
CREATED:20250212T085709Z
LAST-MODIFIED:20250212T085709Z
UID:10680-1682208000-1682294399@arquireal.im3dia.net
SUMMARY:Día de San Jorge
DESCRIPTION:
URL:https://arquireal.im3dia.net/actividades/dia-de-san-jorge-14/
CATEGORIES:Festivos en España
END:VEVENT
BEGIN:VEVENT
DTSTART;VALUE=DATE:20230410
DTEND;VALUE=DATE:20230411
DTSTAMP:20260423T130303
CREATED:20250212T091351Z
LAST-MODIFIED:20250212T091351Z
UID:10881-1681084800-1681171199@arquireal.im3dia.net
SUMMARY:Lunes de Pascua
DESCRIPTION:
URL:https://arquireal.im3dia.net/actividades/lunes-de-pascua-17/
CATEGORIES:Festivos en España
END:VEVENT
BEGIN:VEVENT
DTSTART;VALUE=DATE:20230409
DTEND;VALUE=DATE:20230410
DTSTAMP:20260423T130303
CREATED:20250212T091016Z
LAST-MODIFIED:20250212T091016Z
UID:10775-1680998400-1681084799@arquireal.im3dia.net
SUMMARY:Domingo de Pascua
DESCRIPTION:
URL:https://arquireal.im3dia.net/actividades/domingo-de-pascua-23/
CATEGORIES:Festivos en España
END:VEVENT
BEGIN:VEVENT
DTSTART;VALUE=DATE:20230408
DTEND;VALUE=DATE:20230409
DTSTAMP:20260423T130303
CREATED:20250212T085709Z
LAST-MODIFIED:20250212T085709Z
UID:10679-1680912000-1680998399@arquireal.im3dia.net
SUMMARY:Sábado Santo
DESCRIPTION:
URL:https://arquireal.im3dia.net/actividades/sabado-santo-18/
CATEGORIES:Festivos en España
END:VEVENT
BEGIN:VEVENT
DTSTART;VALUE=DATE:20230407
DTEND;VALUE=DATE:20230408
DTSTAMP:20260423T130303
CREATED:20250212T085142Z
LAST-MODIFIED:20250212T085142Z
UID:10616-1680825600-1680911999@arquireal.im3dia.net
SUMMARY:Viernes Santo
DESCRIPTION:Día festivo
URL:https://arquireal.im3dia.net/actividades/viernes-santo-17/
CATEGORIES:Festivos en España
END:VEVENT
BEGIN:VEVENT
DTSTART;VALUE=DATE:20230406
DTEND;VALUE=DATE:20230407
DTSTAMP:20260423T130303
CREATED:20250212T091419Z
LAST-MODIFIED:20250212T091419Z
UID:10902-1680739200-1680825599@arquireal.im3dia.net
SUMMARY:Jueves Santo
DESCRIPTION:
URL:https://arquireal.im3dia.net/actividades/jueves-santo-21/
CATEGORIES:Festivos en España
END:VEVENT
BEGIN:VEVENT
DTSTART;VALUE=DATE:20230402
DTEND;VALUE=DATE:20230403
DTSTAMP:20260423T130303
CREATED:20250212T090928Z
LAST-MODIFIED:20250212T090928Z
UID:10759-1680393600-1680479999@arquireal.im3dia.net
SUMMARY:Domingo de Ramos
DESCRIPTION:
URL:https://arquireal.im3dia.net/actividades/domingo-de-ramos-21/
CATEGORIES:Festivos en España
END:VEVENT
BEGIN:VEVENT
DTSTART;VALUE=DATE:20230326
DTEND;VALUE=DATE:20230327
DTSTAMP:20260423T130303
CREATED:20250212T085358Z
LAST-MODIFIED:20250212T085358Z
UID:10657-1679788800-1679875199@arquireal.im3dia.net
SUMMARY:Cambio de Horario de Verano
DESCRIPTION:
URL:https://arquireal.im3dia.net/actividades/cambio-de-horario-de-verano-15/
CATEGORIES:Festivos en España
END:VEVENT
BEGIN:VEVENT
DTSTART;VALUE=DATE:20230319
DTEND;VALUE=DATE:20230320
DTSTAMP:20260423T130303
CREATED:20250212T091446Z
LAST-MODIFIED:20250212T091446Z
UID:10932-1679184000-1679270399@arquireal.im3dia.net
SUMMARY:San José
DESCRIPTION:
URL:https://arquireal.im3dia.net/actividades/san-jose-22/
CATEGORIES:Festivos en España
END:VEVENT
BEGIN:VEVENT
DTSTART;VALUE=DATE:20230319
DTEND;VALUE=DATE:20230320
DTSTAMP:20260423T130303
CREATED:20250212T090912Z
LAST-MODIFIED:20250212T090913Z
UID:10754-1679184000-1679270399@arquireal.im3dia.net
SUMMARY:Día del Padre
DESCRIPTION:
URL:https://arquireal.im3dia.net/actividades/dia-del-padre-19/
CATEGORIES:Festivos en España
END:VEVENT
BEGIN:VEVENT
DTSTART;VALUE=DATE:20230222
DTEND;VALUE=DATE:20230223
DTSTAMP:20260423T130303
CREATED:20250212T085228Z
LAST-MODIFIED:20250212T085228Z
UID:10630-1677024000-1677110399@arquireal.im3dia.net
SUMMARY:Miércoles de Ceniza
DESCRIPTION:
URL:https://arquireal.im3dia.net/actividades/miercoles-de-ceniza-18/
CATEGORIES:Festivos en España
END:VEVENT
BEGIN:VEVENT
DTSTART;VALUE=DATE:20230221
DTEND;VALUE=DATE:20230222
DTSTAMP:20260423T130303
CREATED:20250212T091414Z
LAST-MODIFIED:20250212T091414Z
UID:10901-1676937600-1677023999@arquireal.im3dia.net
SUMMARY:Martes de Carnaval
DESCRIPTION:
URL:https://arquireal.im3dia.net/actividades/martes-de-carnaval-25/
CATEGORIES:Festivos en España
END:VEVENT
END:VCALENDAR