BEGIN:VCALENDAR
VERSION:2.0
PRODID:-//Arquireal - ECPv6.15.13.1//NONSGML v1.0//EN
CALSCALE:GREGORIAN
METHOD:PUBLISH
X-ORIGINAL-URL:https://arquireal.im3dia.net
X-WR-CALDESC:Eventos para Arquireal
REFRESH-INTERVAL;VALUE=DURATION:PT1H
X-Robots-Tag:noindex
X-PUBLISHED-TTL:PT1H
BEGIN:VTIMEZONE
TZID:Europe/Helsinki
BEGIN:DAYLIGHT
TZOFFSETFROM:+0200
TZOFFSETTO:+0300
TZNAME:EEST
DTSTART:20280326T010000
END:DAYLIGHT
BEGIN:STANDARD
TZOFFSETFROM:+0300
TZOFFSETTO:+0200
TZNAME:EET
DTSTART:20281029T010000
END:STANDARD
BEGIN:DAYLIGHT
TZOFFSETFROM:+0200
TZOFFSETTO:+0300
TZNAME:EEST
DTSTART:20290325T010000
END:DAYLIGHT
BEGIN:STANDARD
TZOFFSETFROM:+0300
TZOFFSETTO:+0200
TZNAME:EET
DTSTART:20291028T010000
END:STANDARD
BEGIN:DAYLIGHT
TZOFFSETFROM:+0200
TZOFFSETTO:+0300
TZNAME:EEST
DTSTART:20300331T010000
END:DAYLIGHT
BEGIN:STANDARD
TZOFFSETFROM:+0300
TZOFFSETTO:+0200
TZNAME:EET
DTSTART:20301027T010000
END:STANDARD
BEGIN:DAYLIGHT
TZOFFSETFROM:+0200
TZOFFSETTO:+0300
TZNAME:EEST
DTSTART:20310330T010000
END:DAYLIGHT
BEGIN:STANDARD
TZOFFSETFROM:+0300
TZOFFSETTO:+0200
TZNAME:EET
DTSTART:20311026T010000
END:STANDARD
END:VTIMEZONE
BEGIN:VEVENT
DTSTART;VALUE=DATE:20291225
DTEND;VALUE=DATE:20291226
DTSTAMP:20260423T085543
CREATED:20250212T090110Z
LAST-MODIFIED:20250212T090110Z
UID:10692-1892851200-1892937599@arquireal.im3dia.net
SUMMARY:Navidad
DESCRIPTION:Día festivo
URL:https://arquireal.im3dia.net/actividades/navidad-15/
CATEGORIES:Festivos en España
END:VEVENT
BEGIN:VEVENT
DTSTART;VALUE=DATE:20291230
DTEND;VALUE=DATE:20291231
DTSTAMP:20260423T085543
CREATED:20250212T091351Z
LAST-MODIFIED:20250212T091351Z
UID:10880-1893283200-1893369599@arquireal.im3dia.net
SUMMARY:Día de la Sagrada Familia
DESCRIPTION:
URL:https://arquireal.im3dia.net/actividades/dia-de-la-sagrada-familia-21/
CATEGORIES:Festivos en España
END:VEVENT
BEGIN:VEVENT
DTSTART;VALUE=DATE:20291231
DTEND;VALUE=DATE:20300101
DTSTAMP:20260423T085543
CREATED:20250212T085632Z
LAST-MODIFIED:20250212T085632Z
UID:10674-1893369600-1893455999@arquireal.im3dia.net
SUMMARY:Nochevieja
DESCRIPTION:
URL:https://arquireal.im3dia.net/actividades/nochevieja-14/
CATEGORIES:Festivos en España
END:VEVENT
BEGIN:VEVENT
DTSTART;VALUE=DATE:20300101
DTEND;VALUE=DATE:20300102
DTSTAMP:20260423T085543
CREATED:20250212T083707Z
LAST-MODIFIED:20250212T091543Z
UID:10434-1893456000-1893542399@arquireal.im3dia.net
SUMMARY:Año Nuevo
DESCRIPTION:Día festivo
URL:https://arquireal.im3dia.net/actividades/ano-nuevo-22/
CATEGORIES:Festivos en España
END:VEVENT
BEGIN:VEVENT
DTSTART;VALUE=DATE:20300102
DTEND;VALUE=DATE:20300103
DTSTAMP:20260423T085543
CREATED:20250212T091543Z
LAST-MODIFIED:20250212T091543Z
UID:10954-1893542400-1893628799@arquireal.im3dia.net
SUMMARY:Reconquista
DESCRIPTION:
URL:https://arquireal.im3dia.net/actividades/reconquista-33/
CATEGORIES:Festivos en España
END:VEVENT
BEGIN:VEVENT
DTSTART;VALUE=DATE:20300106
DTEND;VALUE=DATE:20300107
DTSTAMP:20260423T085543
CREATED:20250212T091543Z
LAST-MODIFIED:20250212T091543Z
UID:10955-1893888000-1893974399@arquireal.im3dia.net
SUMMARY:Epifanía del Señor
DESCRIPTION:Día festivo
URL:https://arquireal.im3dia.net/actividades/epifania-del-senor-33/
CATEGORIES:Festivos en España
END:VEVENT
BEGIN:VEVENT
DTSTART;VALUE=DATE:20300214
DTEND;VALUE=DATE:20300215
DTSTAMP:20260423T085543
CREATED:20250212T091559Z
LAST-MODIFIED:20250212T091559Z
UID:10956-1897257600-1897343999@arquireal.im3dia.net
SUMMARY:Día de San Valentín
DESCRIPTION:
URL:https://arquireal.im3dia.net/actividades/dia-de-san-valentin-23/
CATEGORIES:Festivos en España
END:VEVENT
BEGIN:VEVENT
DTSTART;VALUE=DATE:20300304
DTEND;VALUE=DATE:20300305
DTSTAMP:20260423T085543
CREATED:20250212T091559Z
LAST-MODIFIED:20250212T091559Z
UID:10957-1898812800-1898899199@arquireal.im3dia.net
SUMMARY:Lunes de Carnaval
DESCRIPTION:
URL:https://arquireal.im3dia.net/actividades/lunes-de-carnaval-27/
CATEGORIES:Festivos en España
END:VEVENT
BEGIN:VEVENT
DTSTART;VALUE=DATE:20300305
DTEND;VALUE=DATE:20300306
DTSTAMP:20260423T085543
CREATED:20250212T091559Z
LAST-MODIFIED:20250212T091559Z
UID:10958-1898899200-1898985599@arquireal.im3dia.net
SUMMARY:Martes de Carnaval
DESCRIPTION:
URL:https://arquireal.im3dia.net/actividades/martes-de-carnaval-27/
CATEGORIES:Festivos en España
END:VEVENT
BEGIN:VEVENT
DTSTART;VALUE=DATE:20300306
DTEND;VALUE=DATE:20300307
DTSTAMP:20260423T085543
CREATED:20250212T091559Z
LAST-MODIFIED:20250212T091559Z
UID:10959-1898985600-1899071999@arquireal.im3dia.net
SUMMARY:Miércoles de Ceniza
DESCRIPTION:
URL:https://arquireal.im3dia.net/actividades/miercoles-de-ceniza-28/
CATEGORIES:Festivos en España
END:VEVENT
BEGIN:VEVENT
DTSTART;VALUE=DATE:20300319
DTEND;VALUE=DATE:20300320
DTSTAMP:20260423T085543
CREATED:20250212T091600Z
LAST-MODIFIED:20250212T091600Z
UID:10960-1900108800-1900195199@arquireal.im3dia.net
SUMMARY:Día del Padre
DESCRIPTION:
URL:https://arquireal.im3dia.net/actividades/dia-del-padre-23/
CATEGORIES:Festivos en España
END:VEVENT
BEGIN:VEVENT
DTSTART;VALUE=DATE:20300319
DTEND;VALUE=DATE:20300320
DTSTAMP:20260423T085543
CREATED:20250212T091615Z
LAST-MODIFIED:20250212T091615Z
UID:10961-1900108800-1900195199@arquireal.im3dia.net
SUMMARY:San José
DESCRIPTION:
URL:https://arquireal.im3dia.net/actividades/san-jose-23/
CATEGORIES:Festivos en España
END:VEVENT
BEGIN:VEVENT
DTSTART;VALUE=DATE:20300331
DTEND;VALUE=DATE:20300401
DTSTAMP:20260423T085543
CREATED:20250212T091616Z
LAST-MODIFIED:20250212T091616Z
UID:10962-1901145600-1901231999@arquireal.im3dia.net
SUMMARY:Cambio de Horario de Verano
DESCRIPTION:
URL:https://arquireal.im3dia.net/actividades/cambio-de-horario-de-verano-23/
CATEGORIES:Festivos en España
END:VEVENT
BEGIN:VEVENT
DTSTART;VALUE=DATE:20300414
DTEND;VALUE=DATE:20300415
DTSTAMP:20260423T085543
CREATED:20250212T091616Z
LAST-MODIFIED:20250212T091616Z
UID:10963-1902355200-1902441599@arquireal.im3dia.net
SUMMARY:Domingo de Ramos
DESCRIPTION:
URL:https://arquireal.im3dia.net/actividades/domingo-de-ramos-27/
CATEGORIES:Festivos en España
END:VEVENT
BEGIN:VEVENT
DTSTART;VALUE=DATE:20300418
DTEND;VALUE=DATE:20300419
DTSTAMP:20260423T085543
CREATED:20250212T091616Z
LAST-MODIFIED:20250212T091616Z
UID:10964-1902700800-1902787199@arquireal.im3dia.net
SUMMARY:Jueves Santo
DESCRIPTION:
URL:https://arquireal.im3dia.net/actividades/jueves-santo-27/
CATEGORIES:Festivos en España
END:VEVENT
BEGIN:VEVENT
DTSTART;VALUE=DATE:20300419
DTEND;VALUE=DATE:20300420
DTSTAMP:20260423T085543
CREATED:20250212T091616Z
LAST-MODIFIED:20250212T091616Z
UID:10965-1902787200-1902873599@arquireal.im3dia.net
SUMMARY:Viernes Santo
DESCRIPTION:Día festivo
URL:https://arquireal.im3dia.net/actividades/viernes-santo-27/
CATEGORIES:Festivos en España
END:VEVENT
BEGIN:VEVENT
DTSTART;VALUE=DATE:20300420
DTEND;VALUE=DATE:20300421
DTSTAMP:20260423T085543
CREATED:20250212T091627Z
LAST-MODIFIED:20250212T091627Z
UID:10966-1902873600-1902959999@arquireal.im3dia.net
SUMMARY:Sábado Santo
DESCRIPTION:
URL:https://arquireal.im3dia.net/actividades/sabado-santo-25/
CATEGORIES:Festivos en España
END:VEVENT
BEGIN:VEVENT
DTSTART;VALUE=DATE:20300421
DTEND;VALUE=DATE:20300422
DTSTAMP:20260423T085543
CREATED:20250212T091627Z
LAST-MODIFIED:20250212T091627Z
UID:10967-1902960000-1903046399@arquireal.im3dia.net
SUMMARY:Domingo de Pascua
DESCRIPTION:
URL:https://arquireal.im3dia.net/actividades/domingo-de-pascua-26/
CATEGORIES:Festivos en España
END:VEVENT
BEGIN:VEVENT
DTSTART;VALUE=DATE:20300422
DTEND;VALUE=DATE:20300423
DTSTAMP:20260423T085543
CREATED:20250212T091627Z
LAST-MODIFIED:20250212T091627Z
UID:10968-1903046400-1903132799@arquireal.im3dia.net
SUMMARY:Lunes de Pascua
DESCRIPTION:
URL:https://arquireal.im3dia.net/actividades/lunes-de-pascua-27/
CATEGORIES:Festivos en España
END:VEVENT
BEGIN:VEVENT
DTSTART;VALUE=DATE:20300423
DTEND;VALUE=DATE:20300424
DTSTAMP:20260423T085543
CREATED:20250212T091627Z
LAST-MODIFIED:20250212T091627Z
UID:10969-1903132800-1903219199@arquireal.im3dia.net
SUMMARY:Día de San Jorge
DESCRIPTION:
URL:https://arquireal.im3dia.net/actividades/dia-de-san-jorge-22/
CATEGORIES:Festivos en España
END:VEVENT
BEGIN:VEVENT
DTSTART;VALUE=DATE:20300501
DTEND;VALUE=DATE:20300502
DTSTAMP:20260423T085543
CREATED:20250212T091627Z
LAST-MODIFIED:20250212T091627Z
UID:10970-1903824000-1903910399@arquireal.im3dia.net
SUMMARY:Día del trabajador
DESCRIPTION:Día festivo
URL:https://arquireal.im3dia.net/actividades/dia-del-trabajador-29/
CATEGORIES:Festivos en España
END:VEVENT
BEGIN:VEVENT
DTSTART;VALUE=DATE:20300505
DTEND;VALUE=DATE:20300506
DTSTAMP:20260423T085543
CREATED:20250212T083748Z
LAST-MODIFIED:20250212T091632Z
UID:10446-1904169600-1904255999@arquireal.im3dia.net
SUMMARY:El Dia de la Madre
DESCRIPTION:
URL:https://arquireal.im3dia.net/actividades/el-dia-de-la-madre-21/
CATEGORIES:Festivos en España
END:VEVENT
BEGIN:VEVENT
DTSTART;VALUE=DATE:20300609
DTEND;VALUE=DATE:20300610
DTSTAMP:20260423T085543
CREATED:20250212T091632Z
LAST-MODIFIED:20250212T091632Z
UID:10971-1907193600-1907279999@arquireal.im3dia.net
SUMMARY:Domingo de Pentecostés
DESCRIPTION:
URL:https://arquireal.im3dia.net/actividades/domingo-de-pentecostes-26/
CATEGORIES:Festivos en España
END:VEVENT
BEGIN:VEVENT
DTSTART;VALUE=DATE:20300610
DTEND;VALUE=DATE:20300611
DTSTAMP:20260423T085543
CREATED:20250212T091632Z
LAST-MODIFIED:20250212T091632Z
UID:10972-1907280000-1907366399@arquireal.im3dia.net
SUMMARY:Lunes de Pentecostés
DESCRIPTION:
URL:https://arquireal.im3dia.net/actividades/lunes-de-pentecostes-26/
CATEGORIES:Festivos en España
END:VEVENT
BEGIN:VEVENT
DTSTART;VALUE=DATE:20300620
DTEND;VALUE=DATE:20300621
DTSTAMP:20260423T085543
CREATED:20250212T091632Z
LAST-MODIFIED:20250212T091632Z
UID:10973-1908144000-1908230399@arquireal.im3dia.net
SUMMARY:Corpus Christi
DESCRIPTION:
URL:https://arquireal.im3dia.net/actividades/corpus-christi-26/
CATEGORIES:Festivos en España
END:VEVENT
BEGIN:VEVENT
DTSTART;VALUE=DATE:20300624
DTEND;VALUE=DATE:20300625
DTSTAMP:20260423T085543
CREATED:20250212T091632Z
LAST-MODIFIED:20250212T091632Z
UID:10974-1908489600-1908575999@arquireal.im3dia.net
SUMMARY:San Juan
DESCRIPTION:
URL:https://arquireal.im3dia.net/actividades/san-juan-22/
CATEGORIES:Festivos en España
END:VEVENT
BEGIN:VEVENT
DTSTART;VALUE=DATE:20300725
DTEND;VALUE=DATE:20300726
DTSTAMP:20260423T085543
CREATED:20250212T091643Z
LAST-MODIFIED:20250212T091643Z
UID:10979-1911168000-1911254399@arquireal.im3dia.net
SUMMARY:Santiago Apóstol
DESCRIPTION:
URL:https://arquireal.im3dia.net/actividades/santiago-apostol-22/
CATEGORIES:Festivos en España
END:VEVENT
BEGIN:VEVENT
DTSTART;VALUE=DATE:20300815
DTEND;VALUE=DATE:20300816
DTSTAMP:20260423T085543
CREATED:20250212T091643Z
LAST-MODIFIED:20250212T091643Z
UID:10980-1912982400-1913068799@arquireal.im3dia.net
SUMMARY:La Asunción de la Virgen
DESCRIPTION:Día festivo
URL:https://arquireal.im3dia.net/actividades/la-asuncion-de-la-virgen-22/
CATEGORIES:Festivos en España
END:VEVENT
BEGIN:VEVENT
DTSTART;VALUE=DATE:20301012
DTEND;VALUE=DATE:20301013
DTSTAMP:20260423T085543
CREATED:20250212T091643Z
LAST-MODIFIED:20250212T091643Z
UID:10981-1917993600-1918079999@arquireal.im3dia.net
SUMMARY:Día de la Hispanidad
DESCRIPTION:Día festivo
URL:https://arquireal.im3dia.net/actividades/dia-de-la-hispanidad-32/
CATEGORIES:Festivos en España
END:VEVENT
BEGIN:VEVENT
DTSTART;VALUE=DATE:20301027
DTEND;VALUE=DATE:20301028
DTSTAMP:20260423T085543
CREATED:20250212T091643Z
LAST-MODIFIED:20250212T091643Z
UID:10982-1919289600-1919375999@arquireal.im3dia.net
SUMMARY:Cambio de horario de invierno
DESCRIPTION:
URL:https://arquireal.im3dia.net/actividades/cambio-de-horario-de-invierno-22/
CATEGORIES:Festivos en España
END:VEVENT
END:VCALENDAR