BEGIN:VCALENDAR
VERSION:2.0
PRODID:-//Arquireal - ECPv6.15.13.1//NONSGML v1.0//EN
CALSCALE:GREGORIAN
METHOD:PUBLISH
X-WR-CALNAME:Arquireal
X-ORIGINAL-URL:https://arquireal.im3dia.net
X-WR-CALDESC:Eventos para Arquireal
REFRESH-INTERVAL;VALUE=DURATION:PT1H
X-Robots-Tag:noindex
X-PUBLISHED-TTL:PT1H
BEGIN:VTIMEZONE
TZID:Europe/Helsinki
BEGIN:DAYLIGHT
TZOFFSETFROM:+0200
TZOFFSETTO:+0300
TZNAME:EEST
DTSTART:20240331T010000
END:DAYLIGHT
BEGIN:STANDARD
TZOFFSETFROM:+0300
TZOFFSETTO:+0200
TZNAME:EET
DTSTART:20241027T010000
END:STANDARD
BEGIN:DAYLIGHT
TZOFFSETFROM:+0200
TZOFFSETTO:+0300
TZNAME:EEST
DTSTART:20250330T010000
END:DAYLIGHT
BEGIN:STANDARD
TZOFFSETFROM:+0300
TZOFFSETTO:+0200
TZNAME:EET
DTSTART:20251026T010000
END:STANDARD
BEGIN:DAYLIGHT
TZOFFSETFROM:+0200
TZOFFSETTO:+0300
TZNAME:EEST
DTSTART:20260329T010000
END:DAYLIGHT
BEGIN:STANDARD
TZOFFSETFROM:+0300
TZOFFSETTO:+0200
TZNAME:EET
DTSTART:20261025T010000
END:STANDARD
END:VTIMEZONE
BEGIN:VEVENT
DTSTART;VALUE=DATE:20250413
DTEND;VALUE=DATE:20250414
DTSTAMP:20260426T024013
CREATED:20250212T090757Z
LAST-MODIFIED:20250212T090757Z
UID:10740-1744502400-1744588799@arquireal.im3dia.net
SUMMARY:Domingo de Ramos
DESCRIPTION:
URL:https://arquireal.im3dia.net/actividades/domingo-de-ramos-20/
LOCATION:Ciudad Real
CATEGORIES:Festivos en España
END:VEVENT
BEGIN:VEVENT
DTSTART;VALUE=DATE:20250417
DTEND;VALUE=DATE:20250418
DTSTAMP:20260426T024013
CREATED:20250212T091425Z
LAST-MODIFIED:20250212T091425Z
UID:10908-1744848000-1744934399@arquireal.im3dia.net
SUMMARY:Jueves Santo
DESCRIPTION:
URL:https://arquireal.im3dia.net/actividades/jueves-santo-23/
LOCATION:Ciudad Real
CATEGORIES:Festivos en España
END:VEVENT
BEGIN:VEVENT
DTSTART;VALUE=DATE:20250418
DTEND;VALUE=DATE:20250419
DTSTAMP:20260426T024013
CREATED:20250212T090244Z
LAST-MODIFIED:20250212T090244Z
UID:10718-1744934400-1745020799@arquireal.im3dia.net
SUMMARY:Viernes Santo
DESCRIPTION:Día festivo
URL:https://arquireal.im3dia.net/actividades/viernes-santo-20/
LOCATION:Ciudad Real
CATEGORIES:Festivos en España
END:VEVENT
BEGIN:VEVENT
DTSTART;VALUE=DATE:20250419
DTEND;VALUE=DATE:20250420
DTSTAMP:20260426T024013
CREATED:20250212T085909Z
LAST-MODIFIED:20250212T085909Z
UID:10686-1745020800-1745107199@arquireal.im3dia.net
SUMMARY:Sábado Santo
DESCRIPTION:
URL:https://arquireal.im3dia.net/actividades/sabado-santo-19/
LOCATION:Ciudad Real
CATEGORIES:Festivos en España
END:VEVENT
BEGIN:VEVENT
DTSTART;VALUE=DATE:20250420
DTEND;VALUE=DATE:20250421
DTSTAMP:20260426T024013
CREATED:20250212T085158Z
LAST-MODIFIED:20250212T085158Z
UID:10618-1745107200-1745193599@arquireal.im3dia.net
SUMMARY:Domingo de Pascua
DESCRIPTION:
URL:https://arquireal.im3dia.net/actividades/domingo-de-pascua-17/
LOCATION:Ciudad Real
CATEGORIES:Festivos en España
END:VEVENT
BEGIN:VEVENT
DTSTART;VALUE=DATE:20250421
DTEND;VALUE=DATE:20250422
DTSTAMP:20260426T024013
CREATED:20250212T091425Z
LAST-MODIFIED:20250212T091425Z
UID:10909-1745193600-1745279999@arquireal.im3dia.net
SUMMARY:Lunes de Pascua
DESCRIPTION:
URL:https://arquireal.im3dia.net/actividades/lunes-de-pascua-22/
LOCATION:Ciudad Real
CATEGORIES:Festivos en España
END:VEVENT
BEGIN:VEVENT
DTSTART;VALUE=DATE:20250423
DTEND;VALUE=DATE:20250424
DTSTAMP:20260426T024013
CREATED:20250212T091217Z
LAST-MODIFIED:20250212T091217Z
UID:10825-1745366400-1745452799@arquireal.im3dia.net
SUMMARY:Día de San Jorge
DESCRIPTION:
URL:https://arquireal.im3dia.net/actividades/dia-de-san-jorge-18/
LOCATION:Ciudad Real
CATEGORIES:Festivos en España
END:VEVENT
BEGIN:VEVENT
DTSTART;TZID=Europe/Helsinki:20250428T103000
DTEND;TZID=Europe/Helsinki:20250428T113000
DTSTAMP:20260426T024013
CREATED:20251112T072715Z
LAST-MODIFIED:20251112T072715Z
UID:12872-1745836200-1745839800@arquireal.im3dia.net
SUMMARY:ENTREVISTA CADENA SER CIUDAD REAL
DESCRIPTION:Entrevista a nuestro Presidente\, José Antonio González Baos y la vocal representante de los jóvenes arquitectos\, para hablar sobre la exposición organizada en el Espacio Fisac\, de la demarcación\, para conocer proyectos fin de grado de jóvenes arquitectos de la provincia.
URL:https://arquireal.im3dia.net/actividades/entrevista-cadena-ser-ciudad-real/
LOCATION:SER. Ciudad Real\, SER. Ciudad Real Avenida del Rey Santo\, 3ºD\, 4ª Planta. Ciudad Real.\, Ciudad Real\, Spain
CATEGORIES:Otras Actividades
ATTACH;FMTTYPE=image/jpeg:https://arquireal.im3dia.net/wp-content/uploads/2025/11/EntrevistaCadenaSer.jpg
END:VEVENT
BEGIN:VEVENT
DTSTART;TZID=Europe/Helsinki:20250430T190000
DTEND;TZID=Europe/Helsinki:20250430T200000
DTSTAMP:20260426T024013
CREATED:20251112T072930Z
LAST-MODIFIED:20251112T072930Z
UID:12876-1746039600-1746043200@arquireal.im3dia.net
SUMMARY:INAUGURACIÓN DE LA EXPOSICIÓN DE TRABAJOS ACADÉMICOS DEL GRUPO DE JÓVENES ARQUITECTOS DE LA PROVINCIA DE CIUDAD REAL
DESCRIPTION:Exposición de trabajos fin de grado de jóvenes arquitectos de la provincia. Abierta hasta principios de junio.
URL:https://arquireal.im3dia.net/actividades/inauguracion-de-la-exposicion-de-trabajos-academicos-del-grupo-de-jovenes-arquitectos-de-la-provincia-de-ciudad-real/
LOCATION:Espacio Fisac. Sede de la Demarcación\, Espacio Fisac. Sede de la Demarcación. Calle Carlos López Bustos\, 3. Ciudad Real\, Ciudad Real\, Spain
CATEGORIES:Otras Actividades
ATTACH;FMTTYPE=image/png:https://arquireal.im3dia.net/wp-content/uploads/2025/11/Trabajos-academicos.png
END:VEVENT
END:VCALENDAR